BEGIN:VCALENDAR
VERSION:2.0
PRODID:-//ChamberMaster//Event Calendar 2.0//EN
METHOD:PUBLISH
X-PUBLISHED-TTL:P3D
REFRESH-INTERVAL:P3D
CALSCALE:GREGORIAN
BEGIN:VEVENT
DTSTART:20210614T170000Z
DTEND:20210614T174500Z
X-MICROSOFT-CDO-ALLDAYEVENT:FALSE
SUMMARY:Animal Fingerprint Art
DESCRIPTION:How many animals can you create by adding simple features to a fingerprint? Rising Grades K to 6. Register at GranvilleLibrary.org/calendar/month Sinnett House Patio In case of inclement weather\, this program will be held in the library in the Community Room.
X-ALT-DESC;FMTTYPE=text/html:How many animals can you create by adding simple features to a fingerprint? Rising Grades K to 6. Register at GranvilleLibrary.org/calendar/month Sinnett House Patio In case of inclement weather\, this program will be held in the library in the Community Room.
LOCATION:Granville Public Library
UID:e.180.14803
SEQUENCE:3
DTSTAMP:20260421T175714Z
URL:https://business.granvilleoh.com/events/details/animal-fingerprint-art-14803
END:VEVENT

END:VCALENDAR
