BEGIN:VCALENDAR
VERSION:2.0
PRODID:-//ChamberMaster//Event Calendar 2.0//EN
METHOD:PUBLISH
X-PUBLISHED-TTL:P3D
REFRESH-INTERVAL:P3D
CALSCALE:GREGORIAN
BEGIN:VEVENT
DTSTART:20200705T160000Z
DTEND:20200705T160000Z
X-MICROSOFT-CDO-ALLDAYEVENT:FALSE
SUMMARY:Animation Workshop: YouTube (July 5-11)
DESCRIPTION:Online access to the recorded this Alex Thomas and Friends YouTube video workshop available Sunday\, July 5?Saturday\, July 11\nDesigned for Rising Grades 3 to 6\, younger children may need assistance\nEmail bwernert@granvillelibrary.org for private YouTube link.\nChildren will use free open source animation software and will learn to create several different animations. They can play and pause the video to animate at their own pace.
X-ALT-DESC;FMTTYPE=text/html:Online access to the recorded this Alex Thomas and Friends YouTube video workshop available Sunday\, July 5?Saturday\, July 11\nDesigned for Rising Grades 3 to 6\, younger children may need assistance\nEmail bwernert@granvillelibrary.org for private YouTube link.\nChildren will use free open source animation software and will learn to create several different animations. They can play and pause the video to animate at their own pace.
LOCATION:Granville Public Library
UID:e.180.14560
SEQUENCE:3
DTSTAMP:20260422T090638Z
URL:https://business.granvilleoh.com/events/details/animation-workshop-youtube-july-5-11-14560
END:VEVENT

END:VCALENDAR
