BEGIN:VCALENDAR
VERSION:2.0
PRODID:-//ChamberMaster//Event Calendar 2.0//EN
METHOD:PUBLISH
X-PUBLISHED-TTL:P3D
REFRESH-INTERVAL:P3D
CALSCALE:GREGORIAN
BEGIN:VEVENT
DTSTART:20200327T150000Z
DTEND:20200327T160000Z
X-MICROSOFT-CDO-ALLDAYEVENT:FALSE
SUMMARY:Apples to Apples
DESCRIPTION:Grades 3-6
X-ALT-DESC;FMTTYPE=text/html:Grades 3-6
LOCATION:Granville Public Library
UID:e.180.14387
SEQUENCE:3
DTSTAMP:20260422T141747Z
URL:https://business.granvilleoh.com/events/details/apples-to-apples-14387
END:VEVENT

END:VCALENDAR
