BEGIN:VCALENDAR
VERSION:2.0
PRODID:-//ChamberMaster//Event Calendar 2.0//EN
METHOD:PUBLISH
X-PUBLISHED-TTL:P3D
REFRESH-INTERVAL:P3D
CALSCALE:GREGORIAN
BEGIN:VEVENT
DTSTART:20200228T000000Z
DTEND:20200228T010000Z
X-MICROSOFT-CDO-ALLDAYEVENT:FALSE
SUMMARY:Artist talk with Vail Visiting Artist Beth Leister
DESCRIPTION:Denison University welcomes Vail visiting artist Beth Leister presenting an artist talk. Leister engages a practice that includes video\, performance\, drawing and virtual reality. Time and memory are key themes that are woven together often through drawing as a performative act.
X-ALT-DESC;FMTTYPE=text/html:<span style="color:rgb(69\, 69\, 69)\; font-family:freight sans pro w00\; font-size:19.2px">Denison University welcomes Vail visiting artist&nbsp\;Beth Leister&nbsp\;presenting an artist talk. Leister engages a practice that includes video\, performance\, drawing and virtual reality. Time and memory are key themes that are woven together often through drawing as a performative act.&nbsp\;</span>
LOCATION:Denison University Knapp Performance Lab 300 Ridge Road
UID:e.180.14282
SEQUENCE:3
DTSTAMP:20260422T160207Z
URL:https://business.granvilleoh.com/events/details/artist-talk-with-vail-visiting-artist-beth-leister-14282
END:VEVENT

END:VCALENDAR
