BEGIN:VCALENDAR
VERSION:2.0
PRODID:-//ChamberMaster//Event Calendar 2.0//EN
METHOD:PUBLISH
X-PUBLISHED-TTL:P3D
REFRESH-INTERVAL:P3D
CALSCALE:GREGORIAN
BEGIN:VEVENT
DTSTART:20200306T000000Z
DTEND:20200306T010000Z
X-MICROSOFT-CDO-ALLDAYEVENT:FALSE
SUMMARY:Artist talk with Vail Visiting Artist Elia Alba
DESCRIPTION:Denison University welcomes Vail visiting artist Elia Alba. Alba is a multidisciplinary artist who lives and works in Queens\, New York. Alba's ongoing project The Supper Club depicts contemporary artists of color in portraits\, and presents dinners where a diverse array of artists\, curators\, historians and collectors address topics related to people of color and to women.
X-ALT-DESC;FMTTYPE=text/html:<div>\n<div>\n<div>\n<div>\n<div>\n<div>\n<div>\n<div>\n<p>Denison University welcomes Vail visiting artist&nbsp\;Elia Alba.&nbsp\;Alba is a multidisciplinary artist who lives and works in Queens\, New York. Alba&rsquo\;s ongoing project The Supper Club depicts contemporary artists of color in portraits\, and presents dinners where a diverse array of artists\, curators\, historians and collectors address topics related to people of color and to women.</p>\n\n<div>&nbsp\;</div>\n</div>\n</div>\n</div>\n</div>\n</div>\n</div>\n</div>\n</div>\n
LOCATION:Denison University Knapp Performance Lab 300 Ridge Road
UID:e.180.14283
SEQUENCE:3
DTSTAMP:20260422T142942Z
URL:https://business.granvilleoh.com/events/details/artist-talk-with-vail-visiting-artist-elia-alba-14283
END:VEVENT

END:VCALENDAR
