BEGIN:VCALENDAR
VERSION:2.0
PRODID:-//ChamberMaster//Event Calendar 2.0//EN
METHOD:PUBLISH
X-PUBLISHED-TTL:P3D
REFRESH-INTERVAL:P3D
CALSCALE:GREGORIAN
BEGIN:VEVENT
DTSTART:20200205T000000Z
DTEND:20200205T010000Z
X-MICROSOFT-CDO-ALLDAYEVENT:FALSE
SUMMARY:Artist talk with Vail Visiting Artist Sharif Bey
DESCRIPTION:Denison University welcomes Vail visiting artist Sharif Bey presenting an artist talk.
X-ALT-DESC;FMTTYPE=text/html:<span style="color:rgb(69\, 69\, 69)\; font-family:freight sans pro w00\; font-size:19.2px">Denison University welcomes Vail visiting artist&nbsp\;Sharif Bey presenting an artist talk.</span>
LOCATION:Denison University Knapp Performance Lab 300 Ridge Road
UID:e.180.14281
SEQUENCE:3
DTSTAMP:20260422T160348Z
URL:https://business.granvilleoh.com/events/details/artist-talk-with-vail-visiting-artist-sharif-bey-14281
END:VEVENT

END:VCALENDAR
