BEGIN:VCALENDAR
VERSION:2.0
PRODID:-//ChamberMaster//Event Calendar 2.0//EN
METHOD:PUBLISH
X-PUBLISHED-TTL:P3D
REFRESH-INTERVAL:P3D
CALSCALE:GREGORIAN
BEGIN:VEVENT
DTSTART:20200310T230000Z
DTEND:20200311T000000Z
X-MICROSOFT-CDO-ALLDAYEVENT:FALSE
SUMMARY:Artist talk with Vail Visiting Artist Tanya Aguiniga
DESCRIPTION:Denison University welcomes Vail visiting artist Tanya Aguiniga presenting an artist talk.\n\n\n\nAguiniga is a Los Angeles based artist/designer/craftsperson who was raised in Tijuana\, Mexico. She holds a Master of Fine Arts in furniture design from Rhode Island School of Design and a Bachelor of Arts from San Diego State University.  Aguiniga has created various collaborative installations with the Border Arts Workshop\, an artists' group that engages the languages of activism and community-based public art.
X-ALT-DESC;FMTTYPE=text/html:<p><span style="background-color:transparent\; color:rgb(0\, 0\, 0)\; font-family:arial\; font-size:11pt">Denison University welcomes Vail visiting artist Tanya Aguiniga presenting an artist talk.</span><br />\n<br />\n<span style="background-color:transparent\; color:rgb(0\, 0\, 0)\; font-family:arial\; font-size:11pt">Aguiniga is a Los Angeles based artist/designer/craftsperson who was raised in Tijuana\, Mexico. She holds a Master of Fine Arts in furniture design from Rhode Island School of Design and a Bachelor of Arts from San Diego State University.&nbsp\; Aguiniga has created various collaborative installations with the Border Arts Workshop\, an artists&#39\; group that engages the languages of activism and community-based public art.</span></p>\n\n<p>&nbsp\;</p>\n\n<div><br />\n&nbsp\;</div>\n
LOCATION:Denison University Knapp Performance Lab 300 Ridge Road
UID:e.180.14373
SEQUENCE:3
DTSTAMP:20260422T143444Z
URL:https://business.granvilleoh.com/events/details/artist-talk-with-vail-visiting-artist-tanya-aguiniga-14373
END:VEVENT

END:VCALENDAR
