BEGIN:VCALENDAR
VERSION:2.0
PRODID:-//ChamberMaster//Event Calendar 2.0//EN
METHOD:PUBLISH
X-PUBLISHED-TTL:P3D
REFRESH-INTERVAL:P3D
CALSCALE:GREGORIAN
BEGIN:VEVENT
DTSTART:20210219T000000Z
DTEND:20210219T010000Z
X-MICROSOFT-CDO-ALLDAYEVENT:FALSE
SUMMARY:'Asian and Asian American Women in Theology and Religion'
DESCRIPTION:The Goodspeed Lecture Series welcomes Asian and Asian American feminist scholars Kwok Pui-lan\, Dean's Professor of Systematic Theology at Candler School of Theology\, Emory University\; Najeeba Syeed\, Associate Professor of Muslim and Interreligious Studies at Chicago Theological Seminary\; Sharon Suh\, Professor of Theology and Religious Studies at Seattle University\; and Sharon Jacob\, Assistant Professor of New Testament at Graduate Theological Union to present a lecture\, "Asian and Asian American Women in Theology and Religion." These Asian and Asian American feminist scholars in theology\, religion\, and biblical studies have contributed to "Asian and Asian American Women in Theology and Religion" (Palgrave\, 2020).\nKwok Pui-lan\, editor of the book\, is Dean's Professor of Systematic Theology at Candler School of Theology\, Emory University. An internationally known postcolonial feminist theologian\, Kwok has published or edited more than twenty books in English and Chinese. Kwok was also president of the American Academy of Religion in 2011 and co-founded Pacific Asian North American Asian Women in Theology and Ministry.\n\nNajeeba Syeed\, Associate Professor of Muslim and Interreligious Studies at Chicago Theological Seminary is a recognized leader in peacebuilding and twice received the Jon Anson Ford Award for reducing violence. She was also named Southern California Mediation Association's "Peacemaker of the Year'' in 2007.\n\nSharon Suh\, Professor of Theology and Religious Studies at Seattle University\, is a Buddhist feminist scholar whose scholarly books and talks have brought innovative perspectives to Buddhist Studies. She has published many books and articles\, including "Occupy This Body: A Buddhist Memoir" (Sumeru Press\, 2019) and "Being Buddhist in a Christian World: Gender and Community in a Korean American Temple" (Seattle and London: University of Washington Press\, 2004).\n\nSharon Jacob\, Assistant Professor of New Testament at Pacific School of Religion in Berkeley CA\, is a postcolonial feminist biblical scholar who published "Reading Mary Alongside Indian Surrogate Mothers: Violent Love\, Oppressive Liberation\, and Infancy Narratives" (Palgrave\, 2015). She is a regular contributor to the E-Journal of Feminist Studies in Religion (EFSR)\, offering critical perspectives on Islamophobia as a growing global crisis and race\, whiteness\, and religion.\n\nThe lecture showcases diverse Asian American women's embodied knowledge of religion intersected with race\, class\, gender\, and sexuality.\n\nDenison University's Goodspeed Lectureship is named after Edgar Goodspeed (Class 1890)\, one of the most important American Biblical scholars of the twentieth century. The Goodspeed Lecture Series brings renowned scholars in Religion whose critical voices help the Denison community and its friends explore social justice issues\, American public life\, international relations\, human history\, and rituals through the multiple lenses of Religion.
X-ALT-DESC;FMTTYPE=text/html:<span style="background-color:transparent\; color:rgb(0\, 0\, 0)\; font-family:arial\; font-size:11pt">The Goodspeed Lecture Series welcomes Asian and Asian American feminist scholars Kwok Pui-lan\, Dean&rsquo\;s Professor of Systematic Theology at Candler School of Theology\, Emory University\; Najeeba Syeed\, Associate Professor of Muslim and Interreligious Studies at Chicago Theological Seminary\; Sharon Suh\, Professor of Theology and Religious Studies at Seattle University\; and Sharon Jacob\, Assistant Professor of New Testament at Graduate Theological Union to present a lecture\, &quot\;Asian and Asian American Women in Theology and Religion.&quot\;&nbsp\;These Asian and Asian American feminist scholars in theology\, religion\, and biblical studies have contributed to &quot\;Asian and Asian American Women in Theology and Religion&quot\; (Palgrave\, 2020).</span>\n<p><span style="background-color:transparent\; color:rgb(0\, 0\, 0)\; font-family:arial\; font-size:11pt">Kwok Pui-lan\, editor of the book\, is Dean&rsquo\;s Professor of Systematic Theology at Candler School of Theology\, Emory University. An internationally known postcolonial feminist theologian\, Kwok has published or edited more than twenty books in English and Chinese. Kwok was also president of the American Academy of Religion in 2011 and co-founded Pacific Asian North American Asian Women in Theology and Ministry.</span></p>\n\n<p><span style="background-color:transparent\; color:rgb(0\, 0\, 0)\; font-family:arial\; font-size:11pt">Najeeba Syeed\, Associate Professor of Muslim and Interreligious Studies at Chicago Theological Seminary is a recognized leader in peacebuilding and twice received the Jon Anson Ford Award for reducing violence. She was also named Southern California Mediation Association&rsquo\;s &ldquo\;Peacemaker of the Year&#39\;&#39\; in 2007.</span></p>\n\n<p><span style="background-color:transparent\; color:rgb(0\, 0\, 0)\; font-family:arial\; font-size:11pt">Sharon Suh\, Professor of Theology and Religious Studies at Seattle University\, is a Buddhist feminist scholar whose scholarly books and talks have brought innovative perspectives to Buddhist Studies. She has published many books and articles\, including &quot\;Occupy This Body: A Buddhist Memoir&quot\; (Sumeru Press\, 2019) and &quot\;Being Buddhist in a Christian World: Gender and Community in a Korean American Temple&quot\; (Seattle and London: University of Washington Press\, 2004).</span></p>\n\n<p><span style="background-color:transparent\; color:rgb(0\, 0\, 0)\; font-family:arial\; font-size:11pt">Sharon Jacob\, Assistant Professor of </span><span style="color:rgb(33\, 33\, 33)\; font-family:arial\; font-size:11pt">New Testament at Pacific School of Religion in Berkeley CA</span><span style="background-color:transparent\; color:rgb(0\, 0\, 0)\; font-family:arial\; font-size:11pt">\, is a postcolonial feminist biblical scholar who published &quot\;Reading Mary Alongside Indian Surrogate Mothers: Violent Love\, Oppressive Liberation\, and Infancy Narratives&quot\; (Palgrave\, 2015). She is a regular contributor to the E-Journal of Feminist Studies in Religion (EFSR)\, offering critical perspectives on Islamophobia as a growing global crisis and race\, whiteness\, and religion.</span></p>\n\n<p><span style="background-color:transparent\; color:rgb(0\, 0\, 0)\; font-family:arial\; font-size:11pt">The lecture showcases diverse Asian American women&rsquo\;s embodied knowledge of religion intersected with race\, class\, gender\, and sexuality.</span></p>\n\n<p><span style="background-color:transparent\; color:rgb(0\, 0\, 0)\; font-family:arial\; font-size:11pt">Denison University&rsquo\;s Goodspeed Lectureship is named after Edgar Goodspeed (Class 1890)\, one of the most important American Biblical scholars of the twentieth century. The Goodspeed Lecture Series brings renowned scholars in Religion whose critical voices help the Denison community and its friends explore social justice issues\, American public life\, international relations\, human history\, and rituals through the multiple lenses of Religion.</span></p>\n\n<div>&nbsp\;</div>\n
LOCATION:Virtual
UID:e.180.14746
SEQUENCE:3
DTSTAMP:20260422T003750Z
URL:https://business.granvilleoh.com/events/details/asian-and-asian-american-women-in-theology-and-religion-14746
END:VEVENT

END:VCALENDAR
