BEGIN:VCALENDAR
VERSION:2.0
PRODID:-//ChamberMaster//Event Calendar 2.0//EN
METHOD:PUBLISH
X-PUBLISHED-TTL:P3D
REFRESH-INTERVAL:P3D
CALSCALE:GREGORIAN
BEGIN:VEVENT
DTSTART:20201112T220000Z
DTEND:20201113T000000Z
X-MICROSOFT-CDO-ALLDAYEVENT:FALSE
SUMMARY:ASK ABOUT: Buying and Selling Online via Zoom
DESCRIPTION:Join us for this Zoom class on how to buy and sell things online. We will go over how to safely use programs like Facebook Market Marketplace\, Etsy\, eBay\, and Cragislist. You will also learn about using payment programs like Paypal and more.\n\nRegister at GranvilleLibrary.org/calendar/month
X-ALT-DESC;FMTTYPE=text/html:Join us for this Zoom class on how to buy and sell things online. We will go over how to safely use programs like Facebook Market Marketplace\, Etsy\, eBay\, and Cragislist. You will also learn about using payment programs like Paypal and more.\n\nRegister at GranvilleLibrary.org/calendar/month
LOCATION:Granville Public Library via Zoom
UID:e.180.14655
SEQUENCE:3
DTSTAMP:20260422T033422Z
URL:https://business.granvilleoh.com/events/details/ask-about-buying-and-selling-online-via-zoom-14655
END:VEVENT

END:VCALENDAR
