BEGIN:VCALENDAR
VERSION:2.0
PRODID:-//ChamberMaster//Event Calendar 2.0//EN
METHOD:PUBLISH
X-PUBLISHED-TTL:P3D
REFRESH-INTERVAL:P3D
CALSCALE:GREGORIAN
BEGIN:VEVENT
DTSTART:20200901T200000Z
DTEND:20200901T220000Z
X-MICROSOFT-CDO-ALLDAYEVENT:FALSE
SUMMARY:Ask About: eBooks & Audio Books
DESCRIPTION:Join us for during this zoom class where you can ask resident Technology Coordinator questions you may have on eBooks & Audiobooks. Learn how to access Libby & Hoopla to use this handy and free content from the library while you are safe at home. Open to Adults. Register to receive a zoom meeting link on the day of the class. Register on the calendar page at GranvilleLibrary.org
X-ALT-DESC;FMTTYPE=text/html:Join us for during this zoom class where you can ask resident Technology Coordinator questions you may have on eBooks &amp\; Audiobooks. Learn how to access Libby &amp\; Hoopla to use this handy and free content from the library while you are safe at home. Open to Adults. Register to receive a zoom meeting link on the day of the class. Register on the calendar page at GranvilleLibrary.org
LOCATION:Granville Public Library via Zoom
UID:e.180.14574
SEQUENCE:3
DTSTAMP:20260422T060029Z
URL:https://business.granvilleoh.com/events/details/ask-about-ebooks-audio-books-14574
END:VEVENT

END:VCALENDAR
