BEGIN:VCALENDAR
VERSION:2.0
PRODID:-//ChamberMaster//Event Calendar 2.0//EN
METHOD:PUBLISH
X-PUBLISHED-TTL:P3D
REFRESH-INTERVAL:P3D
CALSCALE:GREGORIAN
BEGIN:VEVENT
DTSTART:20200603T020000Z
DTEND:20200603T024000Z
X-MICROSOFT-CDO-ALLDAYEVENT:FALSE
SUMMARY:Baby Time
DESCRIPTION:Tuesdays\, 10am on Facebook Live / Tuesdays\, 10:20am on Instagram Live June 2-July 21st. Songs\, rhymes\, and a play session. Birth to 18 months
X-ALT-DESC;FMTTYPE=text/html:Tuesdays\, 10am on Facebook Live / Tuesdays\, 10:20am on Instagram Live June 2-July 21st. Songs\, rhymes\, and a play session. Birth to 18 months
LOCATION:Facebook @Granville Public Library Instagram @ GPL_Kids
UID:e.180.14500
SEQUENCE:3
DTSTAMP:20260422T102159Z
URL:https://business.granvilleoh.com/events/details/baby-time-06-02-2020-14500
END:VEVENT

END:VCALENDAR
