BEGIN:VCALENDAR
VERSION:2.0
PRODID:-//ChamberMaster//Event Calendar 2.0//EN
METHOD:PUBLISH
X-PUBLISHED-TTL:P3D
REFRESH-INTERVAL:P3D
CALSCALE:GREGORIAN
BEGIN:VEVENT
DTSTART:20210608T140000Z
DTEND:20210608T143000Z
X-MICROSOFT-CDO-ALLDAYEVENT:FALSE
SUMMARY:Baby Time
DESCRIPTION:Songs and rhymes at Robbins Hunter Museum\, behind the historic house in the Garden Folly\, weather permitting. The program will be cancelled for inclement weather. Birth to 18 months Tuesdays at 10am in June and July beginning June 8
X-ALT-DESC;FMTTYPE=text/html:Songs and rhymes at Robbins Hunter Museum\, behind the historic house in the Garden Folly\, weather permitting. The program will be cancelled for inclement weather. Birth to 18 months Tuesdays at 10am in June and July beginning June 8
LOCATION:Robbins Hunter Museum Gardens with the Granville Public Library
UID:e.180.14792
SEQUENCE:3
DTSTAMP:20260421T175231Z
URL:https://business.granvilleoh.com/events/details/baby-time-06-08-2021-14792
END:VEVENT

END:VCALENDAR
