BEGIN:VCALENDAR
VERSION:2.0
PRODID:-//ChamberMaster//Event Calendar 2.0//EN
METHOD:PUBLISH
X-PUBLISHED-TTL:P3D
REFRESH-INTERVAL:P3D
CALSCALE:GREGORIAN
BEGIN:VEVENT
DTSTART:20210926T180000Z
DTEND:20210926T190000Z
X-MICROSOFT-CDO-ALLDAYEVENT:FALSE
SUMMARY:Banned Book Read-a-Loud
DESCRIPTION:Join Denison's Stories from the Hill club as they read a selection of banned books. Readings will be followed with brief discussions as to why the titles were challenged or banned. The program is for all ages and we'll meet in the folly garden at Robbins Hunter Museum.
X-ALT-DESC;FMTTYPE=text/html:Join Denison&#39\;s Stories from the Hill club as they read a selection of banned books. Readings will be followed with brief discussions as to why the titles were challenged or banned. The program is for all ages and we&#39\;ll meet in the folly garden at Robbins Hunter Museum.
LOCATION:Robbins Hunter Museum Gardens
UID:e.180.16063
SEQUENCE:3
DTSTAMP:20260421T140125Z
URL:https://business.granvilleoh.com/events/details/banned-book-read-a-loud-16063
END:VEVENT

END:VCALENDAR
