BEGIN:VCALENDAR
VERSION:2.0
PRODID:-//ChamberMaster//Event Calendar 2.0//EN
METHOD:PUBLISH
X-PUBLISHED-TTL:P3D
REFRESH-INTERVAL:P3D
CALSCALE:GREGORIAN
BEGIN:VEVENT
DTSTART:20210629T230000Z
DTEND:20210630T000000Z
X-MICROSOFT-CDO-ALLDAYEVENT:FALSE
SUMMARY:Bargello Pincushion Craft
DESCRIPTION:Bargello is a type of needlepoint embroidery consisting of upright flat stitches laid in a mathematical pattern to create motifs. All supplies provided. Register at GranvilleLibrary.org/calendar/month The Sinnett House patio is located behind the Sinnett House. The Sinnett House is the first house behind the Post Office and across the street from Taco Dan's. The patio can be accessed from the paver walkway behind the library or the Sinnett House driveway.
X-ALT-DESC;FMTTYPE=text/html:Bargello is a type of needlepoint embroidery consisting of upright flat stitches laid in a mathematical pattern to create motifs. All supplies provided. Register at GranvilleLibrary.org/calendar/month The Sinnett House patio is located behind the Sinnett House. The Sinnett House is the first house behind the Post Office and across the street from Taco Dan&#39\;s. The patio can be accessed from the paver walkway behind the library or the Sinnett House driveway.
LOCATION:Granville Public Library
UID:e.180.14823
SEQUENCE:3
DTSTAMP:20260421T191220Z
URL:https://business.granvilleoh.com/events/details/bargello-pincushion-craft-14823
END:VEVENT

END:VCALENDAR
