BEGIN:VCALENDAR
VERSION:2.0
PRODID:-//ChamberMaster//Event Calendar 2.0//EN
METHOD:PUBLISH
X-PUBLISHED-TTL:P3D
REFRESH-INTERVAL:P3D
CALSCALE:GREGORIAN
BEGIN:VEVENT
DTSTART:20200218T010000Z
DTEND:20200218T020000Z
X-MICROSOFT-CDO-ALLDAYEVENT:FALSE
SUMMARY:Beck Series presents Jos Charles
DESCRIPTION:Denison University's Beck Series welcomes poet Jos Charles.\nCharles is author of "feeld\," a National Book Award long-listed finalist and winner of the 2017 National Poetry Series\, selected by Fady Joudah (Milkweed Editions) and "Safe Space." Charles has poetry published with POETRY\, Poem-a-Day\, PEN\, Washington Square Review\, Denver Quarterly\, Action Yes\, The Feminist Wire\, and elsewhere.\n\nCharles' writing has been featured on BitchMedia\, Entropy\, GLAAD\, LAMBDA Literary\, and elsewhere.\n\nIn 2016 she received the Ruth Lilly and Dorothy Sargent Rosenberg Fellowship through the Poetry Foundation. In 2015 she received the Monique Wittig Writer's Scholarship. Charles has a Master of Arts from the University of Arizona.\n\nFrom 2013-2018 she served as the founding-editor for THEM lit\, a trans literary journal.\n\nShe is a PhD student at UC Irvine and currently resides in Long Beach\, California.
X-ALT-DESC;FMTTYPE=text/html:<span style="background-color:transparent\; color:rgb(0\, 0\, 0)\; font-family:arial\; font-size:11pt">Denison University&#39\;s Beck Series welcomes </span><span style="color:rgb(0\, 0\, 0)\; font-family:arial\; font-size:11pt">poet Jos Charles.</span>\n<p><span style="background-color:transparent\; color:rgb(0\, 0\, 0)\; font-family:arial\; font-size:11pt">Charles is author of &quot\;feeld\,&quot\; a National Book Award long-listed finalist and winner of the 2017 National Poetry Series\, selected by Fady Joudah (Milkweed Editions) and &quot\;Safe Space.&quot\; Charles has poetry published with POETRY\, Poem-a-Day\, PEN\, Washington Square Review\, Denver Quarterly\, Action Yes\, The Feminist Wire\, and elsewhere.</span></p>\n\n<p><span style="background-color:transparent\; color:rgb(0\, 0\, 0)\; font-family:arial\; font-size:11pt">Charles&#39\; writing has been featured on BitchMedia\, Entropy\, GLAAD\, LAMBDA Literary\, and elsewhere.</span></p>\n\n<p><span style="background-color:transparent\; color:rgb(0\, 0\, 0)\; font-family:arial\; font-size:11pt">In 2016 she received the Ruth Lilly and Dorothy Sargent Rosenberg Fellowship through the Poetry Foundation. In 2015 she received the Monique Wittig Writer&#39\;s Scholarship. Charles has a Master of Arts from the University of Arizona.</span></p>\n\n<p><span style="background-color:transparent\; color:rgb(0\, 0\, 0)\; font-family:arial\; font-size:11pt">From 2013-2018 she served as the founding-editor for THEM lit\, a trans literary journal.</span></p>\n\n<p><span style="background-color:transparent\; color:rgb(0\, 0\, 0)\; font-family:arial\; font-size:11pt">She is a PhD student at UC Irvine and currently resides in Long Beach\, California.</span></p>\n\n<div>&nbsp\;</div>\n\n<div>&nbsp\;</div>\n
LOCATION:Denison University Boardroom of Barney-Davis Hall 200 West Loop
UID:e.180.14045
SEQUENCE:3
DTSTAMP:20260422T160608Z
URL:https://business.granvilleoh.com/events/details/beck-series-presents-jos-charles-14045
END:VEVENT

END:VCALENDAR
