BEGIN:VCALENDAR
VERSION:2.0
PRODID:-//ChamberMaster//Event Calendar 2.0//EN
METHOD:PUBLISH
X-PUBLISHED-TTL:P3D
REFRESH-INTERVAL:P3D
CALSCALE:GREGORIAN
BEGIN:VEVENT
DTSTART:20200212T213000Z
DTEND:20200212T223000Z
X-MICROSOFT-CDO-ALLDAYEVENT:FALSE
SUMMARY:Beck Series presents Lesley Nneka Arimah
DESCRIPTION:Denison University's Beck Series welcomes GLCA Fiction Winner Lesley Nneka Arimah.\nArimah is the author of "What It Means When a Man Falls from the Sky." Evocative\, wrenching\, and subversive\, this dazzlingly accomplished collection explores the ties that bind us - parents and children\, husbands and wives\, lovers and friends - to one another and to the places we call home. Her short story\, "Skinned\," published in McSweeney's Quarterly Concern Issue 53\, was awarded the 2019 Caine Prize for African Writing.\n\nWinner of the 2017 Kirkus Prize for Fiction and the  NYPL Young Lions Fiction Award\, finalist for the Aspen Prize\, and named one of the most anticipated books of 2017 by Time Magazine\, Elle\, the Chicago Tribune\, the Boston Globe\, the Millions\, Nylon\, and the Minneapolis Star-Tribune\, What It Means When a Man Falls from the Sky\," was also selected by the National Book Foundation as a 2017 Five Under 35 honoree.\n\nArimah has also won an O. Henry Prize and was the Africa Regional Winner for the 2015 Commonwealth Short Story Prize\, as well as being shortlisted for the 2016 Caine Prize for African Writing. Her work has received grants and awards from AWP\, the Elizabeth George Foundation\, the Jerome Foundation and others. Her short stories have appeared in numerous journals and magazines\, including The New Yorker\, which nominated her for a National Magazine Award\, Harper's\, and Granta.\n\nBorn in the United Kingdom\, Arimah moved grew up in both Nigeria and the United Kingdom before moving to the United States in her early teens\, where she spent a decade in Louisiana before relocating to Minnesota. She is currently at work on a novel.
X-ALT-DESC;FMTTYPE=text/html:<span style="color:rgb(0\, 0\, 0)\; font-family:arial\; font-size:11pt">Denison University&#39\;s Beck Series welcomes GLCA Fiction Winner Lesley Nneka Arimah.</span>\n<p><span style="background-color:transparent\; color:rgb(0\, 0\, 0)\; font-family:arial\; font-size:11pt">Arimah is the author of &quot\;What It Means When a Man Falls from the Sky.&quot\; Evocative\, wrenching\, and subversive\, this dazzlingly accomplished collection explores the ties that bind us - parents and children\, husbands and wives\, lovers and friends - to one another and to the places we call home. Her short story\, &quot\;Skinned</span><em>\,&quot\;</em><span style="background-color:transparent\; color:rgb(0\, 0\, 0)\; font-family:arial\; font-size:11pt"> published in McSweeney&rsquo\;s Quarterly Concern</span><em> </em><span style="background-color:transparent\; color:rgb(0\, 0\, 0)\; font-family:arial\; font-size:11pt">Issue 53\, was awarded the 2019 Caine Prize for African Writing.</span></p>\n\n<p><span style="background-color:transparent\; color:rgb(0\, 0\, 0)\; font-family:arial\; font-size:11pt">Winner of the 2017 Kirkus Prize for Fiction and the&nbsp\; NYPL Young Lions Fiction Award\, finalist for the Aspen Prize\, and n</span><strong>a</strong><span style="background-color:transparent\; color:rgb(0\, 0\, 0)\; font-family:arial\; font-size:11pt">med one of the most anticipated books of 2017 by Time Magazine\, Elle\, the Chicago Tribune\, the Boston Globe\, the Millions\, Nylon\, and the Minneapolis Star-Tribune</span><em>\,</em><span style="background-color:transparent\; color:rgb(0\, 0\, 0)\; font-family:arial\; font-size:11pt"> What It Means When a Man Falls from the Sky\,&quot\; was also selected by the National Book Foundation as a 2017 Five Under 35 honoree.</span></p>\n\n<p><span style="color:rgb(0\, 0\, 0)\; font-family:arial\; font-size:11pt">Arimah has also won an O. Henry Prize and was the Africa Regional Winner for the 2015 Commonwealth Short Story Prize\, as well as being shortlisted for the 2016 Caine Prize for African Writing. Her work has received grants and awards from AWP\, the Elizabeth George Foundation\, the Jerome Foundation and others. Her short stories have appeared in numerous journals and magazines\, including The New Yorker\, which nominated her for a National Magazine Award\, Harper&rsquo\;s\, and Granta.</span></p>\n\n<p><span style="color:rgb(0\, 0\, 0)\; font-family:arial\; font-size:11pt">Born in the United Kingdom\, Arimah moved grew up in both Nigeria and the United Kingdom before moving to the United States in her early teens\, where she spent a decade in Louisiana before relocating to Minnesota. She is currently at work on a novel.</span></p>\n\n<div>&nbsp\;</div>\n
LOCATION:Denison University Boardroom of Barney-Davis Hall 200 West Loop
UID:e.180.14044
SEQUENCE:3
DTSTAMP:20260422T155923Z
URL:https://business.granvilleoh.com/events/details/beck-series-presents-lesley-nneka-arimah-14044
END:VEVENT

END:VCALENDAR
