BEGIN:VCALENDAR
VERSION:2.0
PRODID:-//ChamberMaster//Event Calendar 2.0//EN
METHOD:PUBLISH
X-PUBLISHED-TTL:P3D
REFRESH-INTERVAL:P3D
CALSCALE:GREGORIAN
BEGIN:VEVENT
DTSTART:20200325T203000Z
DTEND:20200325T213000Z
X-MICROSOFT-CDO-ALLDAYEVENT:FALSE
SUMMARY:Beck Series presents Lindsey Drager
DESCRIPTION:Denison University's Beck Series welcomes author Lindsey Drager.\nDrager is the author of three works of prose: "The Sorrow Proper\," "The Lost Daughter Collective\," and most recently "The Archive of Alternate Endings" which earned a starred Publisher's Weekly review and was named a Best Book of 2019 in The Guardian and NPR. Her work has won a John Gardner Fiction Prize and a Shirley Jackson Award and received support from the Kimmel Harding Nelson Center for the Arts\, the Vermont Studio Center\, the I-Park Foundation\, and the Anderson Center for Interdisciplinary Study. Recent fiction can be found in Michigan Quarterly Review\, TriQuarterly\, Cincinnati Review\, Modern Fiction Studies\, Slice Magazine\, and elsewhere. The recipient of a 2020 NEA grant in prose\, she is an assistant professor at the University of Utah.
X-ALT-DESC;FMTTYPE=text/html:<span style="background-color:transparent\; color:rgb(0\, 0\, 0)\; font-family:arial\; font-size:11pt">Denison University&#39\;s Beck Series welcomes author </span><span style="color:rgb(0\, 0\, 0)\; font-family:arial\; font-size:11pt">Lindsey Drager.</span>\n<p><span style="color:rgb(0\, 0\, 0)\; font-family:arial\; font-size:11pt">Drager is the author of three works of prose: &ldquo\;The Sorrow Proper\,&rdquo\; &ldquo\;The Lost Daughter Collective\,&rdquo\; and most recently &ldquo\;The Archive of Alternate Endings&rdquo\; which earned a starred Publisher&rsquo\;s Weekly review and was named a Best Book of 2019 in The Guardian and NPR. Her work has won a John Gardner Fiction Prize and a Shirley Jackson Award and received support from the Kimmel Harding Nelson Center for the Arts\, the Vermont Studio Center\, the I-Park Foundation\, and the Anderson Center for Interdisciplinary Study. Recent fiction can be found in Michigan Quarterly Review\, TriQuarterly\, Cincinnati Review\, Modern Fiction Studies\, Slice Magazine\, and elsewhere. The recipient of a 2020 NEA grant in prose\, she is an assistant professor at the University of Utah.</span></p>\n\n<div>&nbsp\;</div>\n\n<div>&nbsp\;</div>\n
LOCATION:Denison University Boardroom of Barney-Davis Hall 200 West Loop
UID:e.180.14047
SEQUENCE:3
DTSTAMP:20260422T141912Z
URL:https://business.granvilleoh.com/events/details/beck-series-presents-lindsey-drager-14047
END:VEVENT

END:VCALENDAR
