BEGIN:VCALENDAR
VERSION:2.0
PRODID:-//ChamberMaster//Event Calendar 2.0//EN
METHOD:PUBLISH
X-PUBLISHED-TTL:P3D
REFRESH-INTERVAL:P3D
CALSCALE:GREGORIAN
BEGIN:VEVENT
DTSTART:20210611T230000Z
DTEND:20210612T000000Z
X-MICROSOFT-CDO-ALLDAYEVENT:FALSE
SUMMARY:Bingo for Books: Adult Edition
DESCRIPTION:Adults\, come play bingo for a chance to win a new book! We will meet in the parking lot behind the Sinnett House to play outdoors\, weather permitting. If the weather is bad\, we will move into the library. Registration is required to participate. GranvilleLibrary.org/calendar/month The Sinnett House patio is located behind the Sinnett House. The Sinnett House is the first house behind the Post Office and across the street from Taco Dan's. The patio can be accessed from the paver walkway behind the library or the Sinnett House driveway.
X-ALT-DESC;FMTTYPE=text/html:Adults\, come play bingo for a chance to win a new book! We will meet in the parking lot behind the Sinnett House to play outdoors\, weather permitting. If the weather is bad\, we will move into the library. Registration is required to participate. GranvilleLibrary.org/calendar/month The Sinnett House patio is located behind the Sinnett House. The Sinnett House is the first house behind the Post Office and across the street from Taco Dan&#39\;s. The patio can be accessed from the paver walkway behind the library or the Sinnett House driveway.
LOCATION:Granville Public Library Sinnett House Patio
UID:e.180.14800
SEQUENCE:3
DTSTAMP:20260421T191645Z
URL:https://business.granvilleoh.com/events/details/bingo-for-books-adult-edition-14800
END:VEVENT

END:VCALENDAR
