BEGIN:VCALENDAR
VERSION:2.0
PRODID:-//ChamberMaster//Event Calendar 2.0//EN
METHOD:PUBLISH
X-PUBLISHED-TTL:P3D
REFRESH-INTERVAL:P3D
CALSCALE:GREGORIAN
BEGIN:VEVENT
DTSTART:20200605T220000Z
DTEND:20200605T230000Z
X-MICROSOFT-CDO-ALLDAYEVENT:FALSE
SUMMARY:Bingo for Books: Family Edition
DESCRIPTION:We're playing bingo via Zoom! Book prizes will be available for all age categories! One card will be provided per registration- be sure each registered participant will have individual access to Zoom. If that's not possible\, please arrange for family members to take turns playing. All ages are welcome to play! Prizes can be picked up at the library during hold pick-up hours.
X-ALT-DESC;FMTTYPE=text/html:We&#39\;re playing bingo via Zoom! Book prizes will be available for all age categories! One card will be provided per registration- be sure each registered participant will have individual access to Zoom. If that&#39\;s not possible\, please arrange for family members to take turns playing. All ages are welcome to play! Prizes can be picked up at the library during hold pick-up hours.
LOCATION:Granville Public Library
UID:e.180.14509
SEQUENCE:3
DTSTAMP:20260422T102333Z
URL:https://business.granvilleoh.com/events/details/bingo-for-books-family-edition-14509
END:VEVENT

END:VCALENDAR
