BEGIN:VCALENDAR
VERSION:2.0
PRODID:-//ChamberMaster//Event Calendar 2.0//EN
METHOD:PUBLISH
X-PUBLISHED-TTL:P3D
REFRESH-INTERVAL:P3D
CALSCALE:GREGORIAN
BEGIN:VEVENT
DTSTART:20200606T000000Z
DTEND:20200606T010000Z
X-MICROSOFT-CDO-ALLDAYEVENT:FALSE
SUMMARY:Bingo for Books: Teen Edition
DESCRIPTION:Teens\, you get your own chance at Bingo for Books! We'll be playing via Zoom. One card per registered participant. Register at GranvilleLibrary.org/calendar/month. Prizes can only be shipped to addresses in Licking County or may be picked up at the library. For rising 7-12 graders. Register for our Imagine Your Story Summer Library Program online or by downloading the Beanstack app to your phone. Earn chances to win through reading\, attending events\, and completing activities.
X-ALT-DESC;FMTTYPE=text/html:Teens\, you get your own chance at Bingo for Books! We&#39\;ll be playing via Zoom. One card per registered participant. Register at GranvilleLibrary.org/calendar/month. Prizes can only be shipped to addresses in Licking County or may be picked up at the library. For rising 7-12 graders. Register for our Imagine Your Story Summer Library Program online or by downloading the Beanstack app to your phone. Earn chances to win through reading\, attending events\, and completing activities.
LOCATION:Granville Public Library
UID:e.180.14510
SEQUENCE:3
DTSTAMP:20260422T114421Z
URL:https://business.granvilleoh.com/events/details/bingo-for-books-teen-edition-14510
END:VEVENT

END:VCALENDAR
