BEGIN:VCALENDAR
VERSION:2.0
PRODID:-//ChamberMaster//Event Calendar 2.0//EN
METHOD:PUBLISH
X-PUBLISHED-TTL:P3D
REFRESH-INTERVAL:P3D
CALSCALE:GREGORIAN
BEGIN:VEVENT
DTSTART:20211114T190000Z
DTEND:20211114T200000Z
X-MICROSOFT-CDO-ALLDAYEVENT:FALSE
SUMMARY:Birdwatching Walk with Ohio Nature Education
DESCRIPTION:Families are invited to join representatives from Ohio Nature Education for an afternoon of birdwatching. Some binoculars will be available but please bring yours if available. We recommend bug spray and sturdy shoes. Meet at the Land Lab at the Granville Intermediate School. Register at GranvilleLibrary.org/calendar/month
X-ALT-DESC;FMTTYPE=text/html:Families are invited to join representatives from Ohio Nature Education for an afternoon of birdwatching. Some binoculars will be available but please bring yours if available. We recommend bug spray and sturdy shoes. Meet at the Land Lab at the Granville Intermediate School. Register at GranvilleLibrary.org/calendar/month
LOCATION:GIS Land Lab
UID:e.180.16144
SEQUENCE:3
DTSTAMP:20260421T112012Z
URL:https://business.granvilleoh.com/events/details/birdwatching-walk-with-ohio-nature-education-11-14-2021-16144
END:VEVENT

END:VCALENDAR
