BEGIN:VCALENDAR
VERSION:2.0
PRODID:-//ChamberMaster//Event Calendar 2.0//EN
METHOD:PUBLISH
X-PUBLISHED-TTL:P3D
REFRESH-INTERVAL:P3D
CALSCALE:GREGORIAN
BEGIN:VEVENT
DTSTART:20210924T220000Z
DTEND:20210924T230000Z
X-MICROSOFT-CDO-ALLDAYEVENT:FALSE
SUMMARY:Birdwatching Walk with Ohio Nature Education
DESCRIPTION:Families are invited to join representatives from Ohio Nature Education as we enjoy an evening of birdwatching. Some binoculars will be available but please bring yours if available. We recommend bug spray and sturdy shoes. Register at GranvilleLibrary.org/calendar/month Denison Bio Reserve All Ages
X-ALT-DESC;FMTTYPE=text/html:Families are invited to join representatives from Ohio Nature Education as we enjoy an evening of birdwatching. Some binoculars will be available but please bring yours if available. We recommend bug spray and sturdy shoes. Register at GranvilleLibrary.org/calendar/month Denison Bio Reserve All Ages
LOCATION:Denison Bio Reserve
UID:e.180.16060
SEQUENCE:3
DTSTAMP:20260421T140228Z
URL:https://business.granvilleoh.com/events/details/birdwatching-walk-with-ohio-nature-education-16060
END:VEVENT

END:VCALENDAR
