BEGIN:VCALENDAR
VERSION:2.0
PRODID:-//ChamberMaster//Event Calendar 2.0//EN
METHOD:PUBLISH
X-PUBLISHED-TTL:P3D
REFRESH-INTERVAL:P3D
CALSCALE:GREGORIAN
BEGIN:VEVENT
DTSTART:20200221T000000Z
DTEND:20200221T010000Z
X-MICROSOFT-CDO-ALLDAYEVENT:FALSE
SUMMARY:The Black Studies Program at Denison University announces its 50th Anniversary Celebration\, “Hope of the Ancestors: Still We Rise”
DESCRIPTION:Celebrate Denison University's 50th Anniversary of the Black Studies Program with a lecture by Melissa Harris-Perry\, the Maya Angelou Presidential Chair at Wake Forest University\, TV host\, author\, and political commentator. Her talk\, "Campus and Community: Continuing the Legacy of Equity\, Education\, and Power."\nHarris-Perry is the founding director of the Anna Julia Cooper Center at Wake Forest\, whose mission is to advance justice through intersectional scholarship. She is also founder of the innovative bi-partisan program\, Wake the Vote.\n\nTogether with her husband\, James Perry\, she is a principal of Perry Partnership\, offering both political and private consulting. Perry Partnership identifies new talent\, develops civic capacity\, trains political candidates\, deepens democratic engagement\, and expands opportunities for real people to make a difference.\n\nFor more than a decade\, Harris-Perry has contributed to American public life through her distinct combination of scholarly analysis and extraordinary wisdom applied to the analysis of race\, gender\, politics\, and power. Her writing has appeared in the Wall Street Journal\, New York Times\, Chicago Tribune\, and many other print and digital venues. She was among the initial cohort of writers for TheRoot.com and authored highly regarded columns for both Essence and The Nation. Currently\, she is editor-at large of Elle.com and a contributing editor at The Nation.\n\nCommitted to diversifying American journalism and mentoring emerging public voices\, Professor Harris-Perry has developed and implemented innovative mentoring efforts including the Elle.com scholars program centering the stories of women and girls of color and BLACK ON CAMPUS\, a national student journalism program in partnership with The Nation.\n\nShe is the author of the award-winning "Barbershops\, Bibles\, and BET: Everyday Talk and Black Political Thought\," and "Sister Citizen: Shame\, Stereotypes\, and Black Women in America." She hosted the award-winning television show Melissa Harris-Perry from 2012-2016 on weekend mornings on MSNBC and in 2016\, she won the Hillman Prize for broadcast journalism.\n\nHarris-Perry received her Bachelor of Arts degree in English from Wake Forest University and her PhD degree in political science from Duke University. She also studied theology at Union Theological Seminary in New York. Harris-Perry previously served on the faculty of the University of Chicago\, Princeton University\, and Tulane University. She serves on several boards and award committees and is a trustee of The Century Foundation.\n\n\n\nDenison's Black Studies Program originated during the turbulent years of the late 1960s when black students across the country demanded that American colleges and universities establish curricula relevant to their lives and pertinent to the changing racial landscape on predominantly white college campuses. With an inaugural interdepartmental "Black Culture in America" course being offered in the Fall of 1968\, the beginnings of a Black Studies major in 1970 took seriously the triangular relationship between North America\, Africa\, and the Caribbean. In the Spring of 1970\, Denison's Board of Trustees officially approved the Black Studies Program.\n\nToday as we begin the celebration of our 50th Anniversary\, the interdisciplinary field of Black Studies is the site for the interrogation of topics as broadly arrayed as Rebellion\, Resistance and Black Religion\; Sexuality and the Black Church\; Black Women's Leadership\; African/Diasporan Dance\; Race and Ethnicity in the U.S. Economy\; Sports and Race in U.S. History\; Women's Voices of Francophone Africa\; Critical Pedagogy: Gender\, Race and Class in Education\; Race and Law\; Social Justice Movements\; The Harlem Renaissance\; and The History of Gospel Music.\n\nIntersecting with fields across the University\, Black Studies has had a profound effect on discourse and research in traditional disciplines by transforming established pedagogies\, methodologies and epistemologies\, especially in the social sciences and humanities.  As we prepare to embark upon the next 50 years and beyond\, Black Studies continues to prepare our students to expand knowledge production regarding peoples of African ancestry and persists in encouraging them to appreciate multiple perspectives\, epistemological multiplicity\, cultural diversity\, along with class\, gender\, racial\, and sexual intersectionality.\n\nToni King\, Director of Black Studies\n\nJohn L. Jackson\, Co-Chair\, 50th Anniversary Planning Committee\n\nTerrance Dean\, Co-Chair\, 50th Anniversary Planning Committee
X-ALT-DESC;FMTTYPE=text/html:<span style="background-color:transparent\; color:rgb(0\, 0\, 0)\; font-family:arial\; font-size:11pt">Celebrate Denison University&#39\;s 50th Anniversary of the Black Studies Program with a lecture by Melissa Harris-Perry\, the Maya Angelou Presidential Chair at Wake Forest University\, TV host\, author\, and political commentator. Her talk</span><span style="background-color:transparent\; font-family:arial\; font-size:11pt">\, &ldquo\;</span>Campus and Community: Continuing the Legacy of Equity\, Education\, and Power<font face="arial"><span style="font-size:14.6667px">.</span></font>&rdquo\;\n<p><span style="background-color:transparent\; color:rgb(0\, 0\, 0)\; font-family:arial\; font-size:11pt">Harris-Perry is the founding director of the Anna Julia Cooper Center at Wake Forest\, whose mission is to advance justice through intersectional scholarship. She is also founder of the innovative bi-partisan program\, Wake the Vote.</span></p>\n\n<p><span style="background-color:transparent\; color:rgb(0\, 0\, 0)\; font-family:arial\; font-size:11pt">Together with her husband\, James Perry\, she is a principal of Perry Partnership\, offering both political and private consulting. Perry Partnership identifies new talent\, develops civic capacity\, trains political candidates\, deepens democratic engagement\, and expands opportunities for real people to make a difference.</span></p>\n\n<p><span style="background-color:transparent\; color:rgb(0\, 0\, 0)\; font-family:arial\; font-size:11pt">For more than a decade\, Harris-Perry has contributed to American public life through her distinct combination of scholarly analysis and extraordinary wisdom applied to the analysis of race\, gender\, politics\, and power. Her writing has appeared in the Wall Street Journal\, New York Times\, Chicago Tribune\, and many other print and digital venues. She was among the initial cohort of writers for TheRoot.com and authored highly regarded columns for both Essence and The Nation. Currently\, she is editor-at large of Elle.com and a contributing editor at The Nation.</span></p>\n\n<p><span style="background-color:transparent\; color:rgb(0\, 0\, 0)\; font-family:arial\; font-size:11pt">Committed to diversifying American journalism and mentoring emerging public voices\, Professor Harris-Perry has developed and implemented innovative mentoring efforts including the Elle.com scholars program centering the stories of women and girls of color and BLACK ON CAMPUS\, a national student journalism program in partnership with The Nation.</span></p>\n\n<p><span style="background-color:transparent\; color:rgb(0\, 0\, 0)\; font-family:arial\; font-size:11pt">She is the author of the award-winning &quot\;Barbershops\, Bibles\, and BET: Everyday Talk and Black Political Thought\,&quot\; and &quot\;Sister Citizen: Shame\, Stereotypes\, and Black Women in America.&quot\; She hosted the award-winning television show Melissa Harris-Perry from 2012-2016 on weekend mornings on MSNBC and in 2016\, she won the Hillman Prize for broadcast journalism.</span></p>\n\n<p><span style="background-color:transparent\; color:rgb(0\, 0\, 0)\; font-family:arial\; font-size:11pt">Harris-Perry received her Bachelor of Arts degree in English from Wake Forest University and her PhD degree in political science from Duke University. She also studied theology at Union Theological Seminary in New York. Harris-Perry previously served on the faculty of the University of Chicago\, Princeton University\, and Tulane University. She serves on several boards and award committees and is a trustee of The Century Foundation.</span><br />\n<br />\n<span style="background-color:transparent\; color:rgb(0\, 0\, 0)\; font-family:arial\; font-size:11pt">Denison&rsquo\;s Black Studies Program originated during the turbulent years of the late 1960s when black students across the country demanded that American colleges and universities establish curricula relevant to their lives and pertinent to the changing racial landscape on predominantly white college campuses. With an inaugural interdepartmental &ldquo\;Black Culture in America&rdquo\; course being offered in the Fall of 1968\, the beginnings of a Black Studies major in 1970 took seriously the triangular relationship between North America\, Africa\, and the Caribbean. In the Spring of 1970\, Denison&rsquo\;s Board of Trustees officially approved the Black Studies Program.</span></p>\n\n<p><span style="background-color:transparent\; color:rgb(0\, 0\, 0)\; font-family:arial\; font-size:11pt">Today as we begin the celebration of our 50</span><span style="background-color:transparent\; color:rgb(0\, 0\, 0)\; font-family:arial\; font-size:11pt"><span style="font-size:0.6em">th</span></span><span style="background-color:transparent\; color:rgb(0\, 0\, 0)\; font-family:arial\; font-size:11pt"> Anniversary\, the interdisciplinary field of Black Studies is the site for the interrogation of topics as broadly arrayed as Rebellion\, Resistance and Black Religion\; Sexuality and the Black Church\; Black Women&rsquo\;s Leadership\; African/Diasporan Dance\; Race and Ethnicity in the U.S. Economy\; Sports and Race in U.S. History\; Women&rsquo\;s Voices of Francophone Africa\; Critical Pedagogy: Gender\, Race and Class in Education\; Race and Law\; Social Justice Movements\; The Harlem Renaissance\; and The History of Gospel Music.</span></p>\n\n<p><span style="background-color:transparent\; color:rgb(0\, 0\, 0)\; font-family:arial\; font-size:11pt">Intersecting with fields across the University\, Black Studies has had a profound effect on discourse and research in traditional disciplines by transforming established pedagogies\, methodologies and epistemologies\, especially in the social sciences and humanities.&nbsp\; As we prepare to embark upon the next 50 years and beyond\, Black Studies continues to prepare our students to expand knowledge production regarding peoples of African ancestry and persists in encouraging them to appreciate multiple perspectives\, epistemological multiplicity\, cultural diversity\, along with class\, gender\, racial\, and sexual intersectionality.</span></p>\n\n<p><span style="background-color:transparent\; color:rgb(0\, 0\, 0)\; font-family:arial\; font-size:11pt">Toni King\, Director of Black Studies</span><br />\n<span style="background-color:transparent\; color:rgb(0\, 0\, 0)\; font-family:arial\; font-size:11pt">John L. Jackson\, Co-Chair\, 50</span><span style="background-color:transparent\; color:rgb(0\, 0\, 0)\; font-family:arial\; font-size:11pt"><span style="font-size:0.6em">th</span></span><span style="background-color:transparent\; color:rgb(0\, 0\, 0)\; font-family:arial\; font-size:11pt"> Anniversary Planning Committee</span><br />\n<span style="background-color:transparent\; color:rgb(0\, 0\, 0)\; font-family:arial\; font-size:11pt">Terrance Dean\, Co-Chair\, 50</span><span style="background-color:transparent\; color:rgb(0\, 0\, 0)\; font-family:arial\; font-size:11pt"><span style="font-size:0.6em">th</span></span><span style="background-color:transparent\; color:rgb(0\, 0\, 0)\; font-family:arial\; font-size:11pt"> Anniversary Planning Committee</span></p>\n\n<div>&nbsp\;</div>\n\n<div>&nbsp\;</div>\n
LOCATION:Denison University Swasey Chapel 200 Chapel Drive
UID:e.180.14285
SEQUENCE:3
DTSTAMP:20260422T160608Z
URL:https://business.granvilleoh.com/events/details/black-studies-50th-anniversary-keynote-with-melissa-harris-perry-14285
END:VEVENT

END:VCALENDAR
