BEGIN:VCALENDAR
VERSION:2.0
PRODID:-//ChamberMaster//Event Calendar 2.0//EN
METHOD:PUBLISH
X-PUBLISHED-TTL:P3D
REFRESH-INTERVAL:P3D
CALSCALE:GREGORIAN
BEGIN:VEVENT
DTSTART:20211215T000000Z
DTEND:20211215T010000Z
X-MICROSOFT-CDO-ALLDAYEVENT:FALSE
SUMMARY:Blowing Off Steam: "A Discussion with String Quartet ETHEL"
DESCRIPTION:Blowing Off Steam: "A Discussion with String Quartet ETHEL"\n\n\n\nETHEL\, a contemporary string quartet based in New York City\, has been Denison's Ensemble-in-Residence since September 2014. Zooming to you live from Kaleidoscope Sound in Union City\, NJ\, this discussion will feature streaming performance and presentations\, to include highlights from this past year-and-a-half's collaborations with Denison students and faculty\, as well as a very special guest (or two)!\n\n"Blowing off S.T.E.A.M. (Science Technology Engineering Art Mathematics)" is an informal community-based forum discussion featuring different topic leaders each month. Brought to you by Ohio State University-Newark\, Denison University\, and the Granville Public Library.
X-ALT-DESC;FMTTYPE=text/html:<p><span style="background-color:transparent\; color:rgb(0\, 0\, 0)\; font-family:arial\; font-size:11pt">Blowing Off Steam:&nbsp\;&ldquo\;A Discussion with String Quartet ETHEL&rdquo\;<br />\n<br />\nETHEL\, a contemporary string quartet based in New York City\, has been Denison&rsquo\;s Ensemble-in-Residence since September 2014. Zooming to you live from Kaleidoscope Sound in Union City\, NJ\, this discussion will feature streaming performance and presentations\, to include highlights from this past year-and-a-half&rsquo\;s collaborations with Denison students and faculty\, as well as a very special guest (or two)!</span></p>\n\n<p><span style="background-color:transparent\; color:rgb(0\, 0\, 0)\; font-family:arial\; font-size:11pt">&ldquo\;Blowing off S.T.E.A.M. (Science Technology Engineering Art Mathematics)&rdquo\; is an informal community-based forum discussion featuring different topic leaders each month. Brought to you by Ohio State University-Newark\, Denison University\, and the Granville Public Library.&nbsp\;</span></p>\n
LOCATION:Virtual
UID:e.180.16159
SEQUENCE:3
DTSTAMP:20260421T094448Z
URL:https://business.granvilleoh.com/events/details/blowing-off-steam-a-discussion-with-string-quartet-ethel-16159
END:VEVENT

END:VCALENDAR
