BEGIN:VCALENDAR
VERSION:2.0
PRODID:-//ChamberMaster//Event Calendar 2.0//EN
METHOD:PUBLISH
X-PUBLISHED-TTL:P3D
REFRESH-INTERVAL:P3D
CALSCALE:GREGORIAN
BEGIN:VEVENT
DTSTART:20210310T000000Z
DTEND:20210310T010000Z
X-MICROSOFT-CDO-ALLDAYEVENT:FALSE
SUMMARY:Blowing Off Steam: Dakota & Ojibwe Skies with Jim Rock\, UMD Alworth Planetarium Program Director and Dakota Astronomer
DESCRIPTION:Community members are invited to learn how American Indians used the moon\, earthen architecture and a turtle's shell to predict astronomical events with remarkable precision. The virtual discussion will be led by James Rock\, a citizen of the Dakota Nation and a faculty member in the Department of Physics and Astronomy and director of indigenous programming for the Marshall W. Alworth Planetarium at the University of Minnesota Duluth. In 2014 Rock co-authored the book D(L)akota Star Map Constellation Guide and has co-published several journal articles on Dakota sacred mound and cave sites. He will discuss both topics from his published works in addition to local connections with the Newark Earthworks and the Serpent Mound in Peebles. Register with an email address to receive a link to the Zoom meeting about an hour before the program begins. Join us for this informal community-based open forum discussion. Brought to you by OSU-N\, Denison University\, and the Granville Public Library. Register at GranvilleLibrary.org/calendar/month
X-ALT-DESC;FMTTYPE=text/html:Community members are invited to learn how American Indians used the moon\, earthen architecture and a turtle&#39\;s shell to predict astronomical events with remarkable precision. The virtual discussion will be led by James Rock\, a citizen of the Dakota Nation and a faculty member in the Department of Physics and Astronomy and director of indigenous programming for the Marshall W. Alworth Planetarium at the University of Minnesota Duluth. In 2014 Rock co-authored the book D(L)akota Star Map Constellation Guide and has co-published several journal articles on Dakota sacred mound and cave sites. He will discuss both topics from his published works in addition to local connections with the Newark Earthworks and the Serpent Mound in Peebles. Register with an email address to receive a link to the Zoom meeting about an hour before the program begins. Join us for this informal community-based open forum discussion. Brought to you by OSU-N\, Denison University\, and the Granville Public Library. Register at GranvilleLibrary.org/calendar/month
LOCATION:Granville Public Library via Zoom
UID:e.180.14750
SEQUENCE:3
DTSTAMP:20260421T233534Z
URL:https://business.granvilleoh.com/events/details/blowing-off-steam-dakota-ojibwe-skies-with-jim-rock-umd-alworth-planetarium-program-director-and-dakota-astronomer-14750
END:VEVENT

END:VCALENDAR
