BEGIN:VCALENDAR
VERSION:2.0
PRODID:-//ChamberMaster//Event Calendar 2.0//EN
METHOD:PUBLISH
X-PUBLISHED-TTL:P3D
REFRESH-INTERVAL:P3D
CALSCALE:GREGORIAN
BEGIN:VEVENT
DTSTART:20200205T000000Z
DTEND:20200205T010000Z
X-MICROSOFT-CDO-ALLDAYEVENT:FALSE
SUMMARY:Blowing Off STEAM: Dance at Denison
DESCRIPTION:Dance at Denison with Dr. Gill Miller\, Professor and Chair of the Denison Department of Dance Science\, Technology. Engineering\, Art\, and Math (STEAM) talks are informal community-based open forum discussions featuring different topic leaders each month. Free and open to the public! Brought to you by the Ohio State University Newark\, Denison University\, and the Granville Public Library.
X-ALT-DESC;FMTTYPE=text/html:Dance at Denison with Dr. Gill Miller\, Professor and Chair of the Denison Department of Dance Science\, Technology. Engineering\, Art\, and Math (STEAM) talks are informal community-based open forum discussions featuring different topic leaders each month. Free and open to the public! Brought to you by the Ohio State University Newark\, Denison University\, and the Granville Public Library.
LOCATION:Granville Public Library
UID:e.180.14036
SEQUENCE:3
DTSTAMP:20260422T154121Z
URL:https://business.granvilleoh.com/events/details/blowing-off-steam-dance-at-denison-14036
END:VEVENT

END:VCALENDAR
