BEGIN:VCALENDAR
VERSION:2.0
PRODID:-//ChamberMaster//Event Calendar 2.0//EN
METHOD:PUBLISH
X-PUBLISHED-TTL:P3D
REFRESH-INTERVAL:P3D
CALSCALE:GREGORIAN
BEGIN:VEVENT
DTSTART:20210914T230000Z
DTEND:20210915T000000Z
X-MICROSOFT-CDO-ALLDAYEVENT:FALSE
SUMMARY:Blowing Off STEAM: Ecology and Conservation of Ohio's Bees with Dr. Karen Goodell\, OSUN Professor of Evolution\, Ecology\, and Organismal Biology
DESCRIPTION:Dr. Goodell will discuss the ecology and conservation of Ohio's native bees through various projects in her lab including: developing bee habitat on reclaimed mines\, the impact of pesticides on wild bees\, and the first survey of Ohio's native bees. Through the lens of these research efforts she will communicate the importance of native bees as pollinators and why conserving their diversity matters. Join us for this community-based open forum discussion. Brought to you by OSU-N\, Denison University\, and the Granville Public Library. This talk will take place in-person in the Library Community Room and simultaneously via Zoom. Please indicate in your registration how you are planning to attend. Please make sure to provide your email so that we may send you the Zoom link about an hour before the start of the program and to notify of any changes to the program's format. Thank you.
X-ALT-DESC;FMTTYPE=text/html:Dr. Goodell will discuss the ecology and conservation of Ohio&rsquo\;s native bees through various projects in her lab including: developing bee habitat on reclaimed mines\, the impact of pesticides on wild bees\, and the first survey of Ohio&rsquo\;s native bees. Through the lens of these research efforts she will communicate the importance of native bees as pollinators and why conserving their diversity matters. Join us for this community-based open forum discussion. Brought to you by OSU-N\, Denison University\, and the Granville Public Library. This talk will take place in-person in the Library Community Room and simultaneously via Zoom. Please indicate in your registration how you are planning to attend. Please make sure to provide your email so that we may send you the Zoom link about an hour before the start of the program and to notify of any changes to the program&#39\;s format. Thank you.
LOCATION:Granville Public Library
UID:e.180.16051
SEQUENCE:3
DTSTAMP:20260421T140741Z
URL:https://business.granvilleoh.com/events/details/blowing-off-steam-ecology-and-conservation-of-ohio-s-bees-with-dr-karen-goodell-osun-professor-of-evolution-ecology-and-organismal-biology-16051
END:VEVENT

END:VCALENDAR
