BEGIN:VCALENDAR
VERSION:2.0
PRODID:-//ChamberMaster//Event Calendar 2.0//EN
METHOD:PUBLISH
X-PUBLISHED-TTL:P3D
REFRESH-INTERVAL:P3D
CALSCALE:GREGORIAN
BEGIN:VEVENT
DTSTART:20210511T230000Z
DTEND:20210512T000000Z
X-MICROSOFT-CDO-ALLDAYEVENT:FALSE
SUMMARY:Blowing Off Steam: Green M&M's? Really? The Art and Science of Presenting National Touring Artists with Mike Morris
DESCRIPTION:The Art and Science of Presenting National Touring Artists with Director of Denison's Vail Series\, co-director of the Ensembles-in-Residence program and Executive Director Emeritus at The Midland Theatre.\n\n\n\nMorris offers a discussion of some of the intersections of concert production and science and technology. He'll also offer some examples from nearly 20 years of experiences presenting national touring artists.\n\n\n\nBlowing off S.T.E.A.M. (Science Technology Engineering Art Mathematics)" is an informal community-based forum discussion featuring different topic leaders each month. Brought to you by Ohio State University-Newark\, Denison University\, and the Granville Public Library.
X-ALT-DESC;FMTTYPE=text/html:<p><span style="background-color:transparent\; color:rgb(0\, 0\, 0)\; font-family:arial\; font-size:11pt">The Art and Science of Presenting National Touring Artists with Director of Denison&#39\;s Vail Series\, co-director of the Ensembles-in-Residence program and Executive Director Emeritus at The Midland Theatre.<br />\n<br />\nMorris offers a discussion of some of the intersections of concert production and science and technology. He&#39\;ll also offer some examples from nearly 20 years of experiences presenting national touring artists.</span><br />\n<br />\n<span style="color:rgb(0\, 0\, 0)\; font-family:arial\; font-size:11pt">Blowing off S.T.E.A.M. (Science Technology Engineering Art Mathematics)&rdquo\; is an informal community-based forum discussion featuring different topic leaders each month. Brought to you by Ohio State University-Newark\, Denison University\, and the Granville Public Library.&nbsp\;</span></p>\n\n<div>&nbsp\;</div>\n\n<div>&nbsp\;</div>\n
LOCATION:Virtual
UID:e.180.14788
SEQUENCE:3
DTSTAMP:20260421T191807Z
URL:https://business.granvilleoh.com/events/details/blowing-off-steam-green-m-m-s-really-the-art-and-science-of-presenting-national-touring-artists-with-mike-morris-14788
END:VEVENT

END:VCALENDAR
