BEGIN:VCALENDAR
VERSION:2.0
PRODID:-//ChamberMaster//Event Calendar 2.0//EN
METHOD:PUBLISH
X-PUBLISHED-TTL:P3D
REFRESH-INTERVAL:P3D
CALSCALE:GREGORIAN
BEGIN:VEVENT
DTSTART:20211012T230000Z
DTEND:20211013T000000Z
X-MICROSOFT-CDO-ALLDAYEVENT:FALSE
SUMMARY:Blowing Off Steam: ‘How Does Stigma Get Under the Skin?’
DESCRIPTION:Blowing Off Steam: "How Does Stigma Get Under the Skin?" with Denison University's Assistant Professor of Psychology Drexler James.\n\nJames will discuss the processes via which people internalize negative stereotypes about their group\, along with the negative health consequences of internalizing stigma.\n\n"Blowing off S.T.E.A.M. (Science Technology Engineering Art Mathematics)" is an informal community-based forum discussion featuring different topic leaders each month. Brought to you by Ohio State University-Newark\, Denison University\, and the Granville Public Library.
X-ALT-DESC;FMTTYPE=text/html:<p><span style="background-color:transparent\; color:rgb(0\, 0\, 0)\; font-family:arial\; font-size:11pt">Blowing Off Steam: &ldquo\;How Does Stigma Get Under the Skin?&rdquo\; with Denison University&#39\;s Assistant Professor of Psychology Drexler James.</span></p>\n\n<p><span style="background-color:transparent\; color:rgb(0\, 0\, 0)\; font-family:arial\; font-size:11pt">James will discuss the processes via which people internalize negative stereotypes about their group\, along with the negative health consequences of internalizing stigma.</span></p>\n\n<div><span style="background-color:transparent\; color:rgb(0\, 0\, 0)\; font-family:arial\; font-size:11pt">&ldquo\;Blowing off S.T.E.A.M. (Science Technology Engineering Art Mathematics)&rdquo\; is an informal community-based forum discussion featuring different topic leaders each month. Brought to you by Ohio State University-Newark\, Denison University\, and the Granville Public Library.&nbsp\;</span></div>\n\n<p>&nbsp\;</p>\n
LOCATION:Virtual
UID:e.180.16085
SEQUENCE:3
DTSTAMP:20260421T125433Z
URL:https://business.granvilleoh.com/events/details/blowing-off-steam-how-does-stigma-get-under-the-skin-16085
END:VEVENT

END:VCALENDAR
