BEGIN:VCALENDAR
VERSION:2.0
PRODID:-//ChamberMaster//Event Calendar 2.0//EN
METHOD:PUBLISH
X-PUBLISHED-TTL:P3D
REFRESH-INTERVAL:P3D
CALSCALE:GREGORIAN
BEGIN:VEVENT
DTSTART:20211012T230000Z
DTEND:20211013T000000Z
X-MICROSOFT-CDO-ALLDAYEVENT:FALSE
SUMMARY:Blowing off STEAM: How Does Stigma Get Under Your Skin with Dr. James
DESCRIPTION:Learn about the processes via which people internalize negative stereotypes about their group\, along with the negative health consequences of internalizing stigma. Register to join us via Zoom for this community-based open forum discussion. Brought to you by OSU-N\, Denison University\, and the Granville Public Library. A Zoom link will be emailed to you about an hour prior to the start of the program. Register at GranvilleLibrary.org/calendar/month
X-ALT-DESC;FMTTYPE=text/html:Learn about the processes via which people internalize negative stereotypes about their group\, along with the negative health consequences of internalizing stigma. Register to join us via Zoom for this community-based open forum discussion. Brought to you by OSU-N\, Denison University\, and the Granville Public Library. A Zoom link will be emailed to you about an hour prior to the start of the program. Register at GranvilleLibrary.org/calendar/month
LOCATION:Granville Public Library via Zoom
UID:e.180.16079
SEQUENCE:3
DTSTAMP:20260421T125622Z
URL:https://business.granvilleoh.com/events/details/blowing-off-steam-how-does-stigma-get-under-your-skin-with-dr-james-16079
END:VEVENT

END:VCALENDAR
