BEGIN:VCALENDAR
VERSION:2.0
PRODID:-//ChamberMaster//Event Calendar 2.0//EN
METHOD:PUBLISH
X-PUBLISHED-TTL:P3D
REFRESH-INTERVAL:P3D
CALSCALE:GREGORIAN
BEGIN:VEVENT
DTSTART:20200304T000000Z
DTEND:20200304T010000Z
X-MICROSOFT-CDO-ALLDAYEVENT:FALSE
SUMMARY:Blowing Off Steam: Next Generation Therapeutics
DESCRIPTION:Join us to gain an understanding of the process of structure-based drug design. From a medicinal chemist's mind to a pharmacy's shelf\, how does it all come together to save lives? Dr. Ozlem Dogan Ekici is the Assistant Professor in the Department of Chemistry and Biochemistry at The Ohio State University at Newark.
X-ALT-DESC;FMTTYPE=text/html:Join us to gain an understanding of the process of structure-based drug design. From a medicinal chemist&rsquo\;s mind to a pharmacy&rsquo\;s shelf\, how does it all come together to save lives? Dr. Ozlem Dogan Ekici is the Assistant Professor in the Department of Chemistry and Biochemistry at The Ohio State University at Newark.
LOCATION:Granville Public Library
UID:e.180.14326
SEQUENCE:3
DTSTAMP:20260422T141738Z
URL:https://business.granvilleoh.com/events/details/blowing-off-steam-next-generation-therapeutics-14326
END:VEVENT

END:VCALENDAR
