BEGIN:VCALENDAR
VERSION:2.0
PRODID:-//ChamberMaster//Event Calendar 2.0//EN
METHOD:PUBLISH
X-PUBLISHED-TTL:P3D
REFRESH-INTERVAL:P3D
CALSCALE:GREGORIAN
BEGIN:VEVENT
DTSTART:20200909T000000Z
DTEND:20200909T010000Z
X-MICROSOFT-CDO-ALLDAYEVENT:FALSE
SUMMARY:Blowing Off Steam: Partisan Bias and the 2020 Election with Dr. Nathaniel Swigger
DESCRIPTION:OSUN Political Science Professor\, Dr. Nathaniel Swigger Science\, Technology\, Engineering\, Art\, Math (S.T.E.A.M.) talks are informal community based open forum discussions featuring different topic leaders each month. Free and open to the public. Brought to you by Ohio State University - Newark\, Denison University\, and the Granville Public Library.
X-ALT-DESC;FMTTYPE=text/html:OSUN Political Science Professor\, Dr. Nathaniel Swigger Science\, Technology\, Engineering\, Art\, Math (S.T.E.A.M.) talks are informal community based open forum discussions featuring different topic leaders each month. Free and open to the public. Brought to you by Ohio State University - Newark\, Denison University\, and the Granville Public Library.
LOCATION:Granville Public Library via Zoom
UID:e.180.14581
SEQUENCE:3
DTSTAMP:20260422T072718Z
URL:https://business.granvilleoh.com/events/details/blowing-off-steam-partisan-bias-and-the-2020-election-with-dr-nathaniel-swigger-14581
END:VEVENT

END:VCALENDAR
