BEGIN:VCALENDAR
VERSION:2.0
PRODID:-//ChamberMaster//Event Calendar 2.0//EN
METHOD:PUBLISH
X-PUBLISHED-TTL:P3D
REFRESH-INTERVAL:P3D
CALSCALE:GREGORIAN
BEGIN:VEVENT
DTSTART:20201013T230000Z
DTEND:20201014T000000Z
X-MICROSOFT-CDO-ALLDAYEVENT:FALSE
SUMMARY:Blowing Off Steam: Shall We Dance?
DESCRIPTION:An informal\, community-based forum. Register to join us on Zoom - www.GranvilleLibrary.org/calendar/month
X-ALT-DESC;FMTTYPE=text/html:An informal\, community-based forum. Register to join us on Zoom - www.GranvilleLibrary.org/calendar/month
LOCATION:Granville Public Library via Zoom
UID:e.180.14616
SEQUENCE:3
DTSTAMP:20260422T044541Z
URL:https://business.granvilleoh.com/events/details/blowing-off-steam-shall-we-dance-14616
END:VEVENT

END:VCALENDAR
