BEGIN:VCALENDAR
VERSION:2.0
PRODID:-//ChamberMaster//Event Calendar 2.0//EN
METHOD:PUBLISH
X-PUBLISHED-TTL:P3D
REFRESH-INTERVAL:P3D
CALSCALE:GREGORIAN
BEGIN:VEVENT
DTSTART:20201013T230000Z
DTEND:20201014T000000Z
X-MICROSOFT-CDO-ALLDAYEVENT:FALSE
SUMMARY:Blowing Off Steam: "Shall We Dance?" with Gill Miller
DESCRIPTION:"Shall We Dance?" Social\, Gymnastic\, and Aesthetic Dance at Early Denison with Professor and Chair of the Denison University Department of Dance Gill Miller. \n\n\n\n"Blowing off S.T.E.A.M. (Science Technology Engineering Art Mathematics)" is an informal community-based forum discussion featuring different topic leaders each month. Brought to you by Ohio State University-Newark\, Denison University\, and the Granville Public Library.
X-ALT-DESC;FMTTYPE=text/html:<p><span style="background-color:transparent\; color:rgb(0\, 0\, 0)\; font-family:arial\; font-size:11pt">&quot\;Shall We Dance?&quot\; Social\, Gymnastic\, and Aesthetic Dance at Early Denison with Professor and Chair of the Denison University Department of Dance Gill Miller.&nbsp\;</span><br />\n<br />\n<span style="background-color:transparent\; color:rgb(0\, 0\, 0)\; font-family:arial\; font-size:11pt">&ldquo\;Blowing off S.T.E.A.M. (Science Technology Engineering Art Mathematics)&rdquo\; is an informal community-based forum discussion featuring different topic leaders each month. Brought to you by Ohio State University-Newark\, Denison University\, and the Granville Public Library.&nbsp\;</span></p>\n
LOCATION:Virtual
UID:e.180.14639
SEQUENCE:3
DTSTAMP:20260422T060316Z
URL:https://business.granvilleoh.com/events/details/blowing-off-steam-shall-we-dance-with-gill-miller-14639
END:VEVENT

END:VCALENDAR
