BEGIN:VCALENDAR
VERSION:2.0
PRODID:-//ChamberMaster//Event Calendar 2.0//EN
METHOD:PUBLISH
X-PUBLISHED-TTL:P3D
REFRESH-INTERVAL:P3D
CALSCALE:GREGORIAN
BEGIN:VEVENT
DTSTART:20200407T230000Z
DTEND:20200408T000000Z
X-MICROSOFT-CDO-ALLDAYEVENT:FALSE
SUMMARY:Blowing Off STEAM: The Cosmos
DESCRIPTION:Assistant Professor Dr. Michael Stamatikos\, Department of Physics at the Ohio State University - Newark\, will discuss the scientific breakthroughs towards our understanding of the Cosmos that were enabled by the Hubble Space Telescope. Science\, Technology\, Engineering\, Art\, Math (S.T.E.A.M.) talks are informal community based open forum discussions featuring different topic leaders each month. Free and open to the public. Brought to you by Ohio State University - Newark\, Denison University\, and the Granville Public Library.
X-ALT-DESC;FMTTYPE=text/html:Assistant Professor Dr. Michael Stamatikos\, Department of Physics at the Ohio State University - Newark\, will discuss the scientific breakthroughs towards our understanding of the Cosmos that were enabled by the Hubble Space Telescope. Science\, Technology\, Engineering\, Art\, Math (S.T.E.A.M.) talks are informal community based open forum discussions featuring different topic leaders each month. Free and open to the public. Brought to you by Ohio State University - Newark\, Denison University\, and the Granville Public Library.
LOCATION:Granville Public Library
UID:e.180.14393
SEQUENCE:3
DTSTAMP:20260422T125753Z
URL:https://business.granvilleoh.com/events/details/blowing-off-steam-the-cosmos-14393
END:VEVENT

END:VCALENDAR
