BEGIN:VCALENDAR
VERSION:2.0
PRODID:-//ChamberMaster//Event Calendar 2.0//EN
METHOD:PUBLISH
X-PUBLISHED-TTL:P3D
REFRESH-INTERVAL:P3D
CALSCALE:GREGORIAN
BEGIN:VEVENT
DTSTART:20210210T000000Z
DTEND:20210210T010000Z
X-MICROSOFT-CDO-ALLDAYEVENT:FALSE
SUMMARY:Blowing Off Steam: The Curse of Wollstonecraft with Virginia H. Cope\, PhD.
DESCRIPTION:With Virginia H. Cope\, PhD\, Associate Dean\, OSU-N and Associate Professor\, English\, The Ohio State University A new\, very odd London statue meant to celebrate the famed feminist philosopher Mary Wollstonecraft has been greeted with derision. This talk places Wollstonecraft's philosophy in the context of her daring life (1759-1797) and considers the irony of the controversial statue\, in keeping with her life's cycle: For every obstacle overcome\, Wollstonecraft suffered a dramatic reversal. Join us for this informal community-based open forum discussion. Brought to you by OSU-N\, Denison University and the Granville Public Library. Registration required. You will be emailed a link to the Zoom event about 1 hour before the start of the program.
X-ALT-DESC;FMTTYPE=text/html:With Virginia H. Cope\, PhD\, Associate Dean\, OSU-N and Associate Professor\, English\, The Ohio State University A new\, very odd London statue meant to celebrate the famed feminist philosopher Mary Wollstonecraft has been greeted with derision. This talk places Wollstonecraft&#39\;s philosophy in the context of her daring life (1759-1797) and considers the irony of the controversial statue\, in keeping with her life&#39\;s cycle: For every obstacle overcome\, Wollstonecraft suffered a dramatic reversal. Join us for this informal community-based open forum discussion. Brought to you by OSU-N\, Denison University and the Granville Public Library. Registration required. You will be emailed a link to the Zoom event about 1 hour before the start of the program.
LOCATION:Granville Public Library via Zoom
UID:e.180.14724
SEQUENCE:3
DTSTAMP:20260421T233548Z
URL:https://business.granvilleoh.com/events/details/blowing-off-steam-the-curse-of-wollstonecraft-with-virginia-h-cope-phd-14724
END:VEVENT

END:VCALENDAR
