BEGIN:VCALENDAR
VERSION:2.0
PRODID:-//ChamberMaster//Event Calendar 2.0//EN
METHOD:PUBLISH
X-PUBLISHED-TTL:P3D
REFRESH-INTERVAL:P3D
CALSCALE:GREGORIAN
BEGIN:VEVENT
DTSTART:20210413T230000Z
DTEND:20210414T000000Z
X-MICROSOFT-CDO-ALLDAYEVENT:FALSE
SUMMARY:Blowing Off Steam: The Fauci Ouchi: A look at the challenges\, current state\, and future of COVID-19 vaccines
DESCRIPTION:The Fauci Ouchi: A look at the challenges\, current state\, and future of COVID-19 vaccines with Assistant Professor\, Department of Veterinary Preventive Medicine\, Center for Food Animal Health\, Ohio Agricultural Research and Development Center at The Ohio State University Scott P. Kenney.\n\n\n\n"Blowing off S.T.E.A.M. (Science Technology Engineering Art Mathematics)" is an informal community-based forum discussion featuring different topic leaders each month. Brought to you by Ohio State University-Newark\, Denison University\, and the Granville Public Library. \n\n\n\nKenney presents a brief history of the SARS-CoV-2 pandemic\, the current COVID-19 pandemic status\, and the rapid development and deployment of COVID-19 vaccines. Talking points include a conversation on what are the main challenges to making a safe and effective vaccine. The novel technologies that were employed to make an effective vaccine against SARS-CoV-2 in record time. Opinions on how we improve upon the current vaccines and what might be the next global pandemic.
X-ALT-DESC;FMTTYPE=text/html:<p><span style="color:rgb(0\, 0\, 0)\; font-family:arial\; font-size:14.6667px">The Fauci Ouchi: A look at the challenges\, current state\, and future of COVID-19 vaccines with Assistant Professor\, Department of Veterinary Preventive Medicine\, Center for Food Animal Health\, Ohio Agricultural Research and Development Center at The Ohio State University Scott P. Kenney.</span><br />\n<br />\n<span style="background-color:transparent\; color:rgb(0\, 0\, 0)\; font-family:arial\; font-size:11pt">&ldquo\;Blowing off S.T.E.A.M. (Science Technology Engineering Art Mathematics)&rdquo\; is an informal community-based forum discussion featuring different topic leaders each month. Brought to you by Ohio State University-Newark\, Denison University\, and the Granville Public Library.&nbsp\;</span><br />\n<br />\n<span style="color:rgb(0\, 0\, 0)\; font-family:arial\; font-size:14.6667px">Kenney presents a brief history of the SARS-CoV-2 pandemic\, the current COVID-19 pandemic status\, and the rapid development and deployment of COVID-19 vaccines. Talking points include a conversation on what are the main challenges to making a safe and effective vaccine. The novel technologies that were employed to make an effective vaccine against SARS-CoV-2 in record time. Opinions on how we improve upon the current vaccines and what might be the next global pandemic.</span></p>\n
LOCATION:Virtual
UID:e.180.14774
SEQUENCE:3
DTSTAMP:20260421T222135Z
URL:https://business.granvilleoh.com/events/details/blowing-off-steam-the-fauci-ouchi-a-look-at-the-challenges-current-state-and-future-of-covid-19-vaccines-14774
END:VEVENT

END:VCALENDAR
