BEGIN:VCALENDAR
VERSION:2.0
PRODID:-//ChamberMaster//Event Calendar 2.0//EN
METHOD:PUBLISH
X-PUBLISHED-TTL:P3D
REFRESH-INTERVAL:P3D
CALSCALE:GREGORIAN
BEGIN:VEVENT
DTSTART:20210113T000000Z
DTEND:20210113T010000Z
X-MICROSOFT-CDO-ALLDAYEVENT:FALSE
SUMMARY:Blowing Off Steam: The Value of Thoughts & Prayers
DESCRIPTION:A standard response of both policy makers and private citizens to hardships-from hurricanes to COVID-19-is to offer "thoughts and prayers." Critics argue that such gestures are meaningless and may obstruct reforms intended to mitigate catastrophes. In collaboration with economist Linda Thunstrom at the University of Wyoming\, Noy set out to measure the value of thoughts and prayers to Americans using experimental survey data. The talk will discuss their findings and share their follow-up research. Join us for this informal community-based open forum discussion. Brought to you by OSU-N\, Denison University and the Granville Public Library. Register at GranvilleLibrary.org/calendar/month. You will be emailed a link to the Zoom event about 1 hour before the start of the program.
X-ALT-DESC;FMTTYPE=text/html:A standard response of both policy makers and private citizens to hardships-from hurricanes to COVID-19-is to offer &quot\;thoughts and prayers.&quot\; Critics argue that such gestures are meaningless and may obstruct reforms intended to mitigate catastrophes. In collaboration with economist Linda Thunstrom at the University of Wyoming\, Noy set out to measure the value of thoughts and prayers to Americans using experimental survey data. The talk will discuss their findings and share their follow-up research. Join us for this informal community-based open forum discussion. Brought to you by OSU-N\, Denison University and the Granville Public Library. Register at GranvilleLibrary.org/calendar/month. You will be emailed a link to the Zoom event about 1 hour before the start of the program.
LOCATION:Granville Public Library via Zoom
UID:e.180.14703
SEQUENCE:3
DTSTAMP:20260422T005543Z
URL:https://business.granvilleoh.com/events/details/blowing-off-steam-the-value-of-thoughts-prayers-14703
END:VEVENT

END:VCALENDAR
