BEGIN:VCALENDAR
VERSION:2.0
PRODID:-//ChamberMaster//Event Calendar 2.0//EN
METHOD:PUBLISH
X-PUBLISHED-TTL:P3D
REFRESH-INTERVAL:P3D
CALSCALE:GREGORIAN
BEGIN:VEVENT
DTSTART:20201111T000000Z
DTEND:20201111T010000Z
X-MICROSOFT-CDO-ALLDAYEVENT:FALSE
SUMMARY:Blowing Off Steam: "Truth or Reconciliation? The Cultural Rhetoric of National Museums" with Elizabeth Weiser
DESCRIPTION:"Truth or Reconciliation? The Cultural Rhetoric of National Museums" with Professor of Rhetoric\, Department of English at The Ohio State University Elizabeth Weiser.\n\nBlowing off S.T.E.A.M. (Science Technology Engineering Art Mathematics)" is an informal community-based forum discussion featuring different topic leaders each month. Brought to you by Ohio State University-Newark\, Denison University\, and the Granville Public Library.
X-ALT-DESC;FMTTYPE=text/html:<p><span style="background-color:transparent\; color:rgb(0\, 0\, 0)\; font-family:arial\; font-size:11pt">&quot\;Truth or Reconciliation? The Cultural Rhetoric of National Museums&quot\; with Professor of Rhetoric\, Department of English at The Ohio State University Elizabeth Weiser.</span></p>\n\n<p><span style="background-color:transparent\; color:rgb(0\, 0\, 0)\; font-family:arial\; font-size:11pt">Blowing off S.T.E.A.M. (Science Technology Engineering Art Mathematics)&rdquo\; is an informal community-based forum discussion featuring different topic leaders each month. Brought to you by Ohio State University-Newark\, Denison University\, and the Granville Public Library.&nbsp\;</span></p>\n\n<div>&nbsp\;</div>\n
LOCATION:Virtual
UID:e.180.14665
SEQUENCE:3
DTSTAMP:20260422T033717Z
URL:https://business.granvilleoh.com/events/details/blowing-off-steam-truth-or-reconciliation-the-cultural-rhetoric-of-national-museums-with-elizabeth-weiser-14665
END:VEVENT

END:VCALENDAR
