BEGIN:VCALENDAR
VERSION:2.0
PRODID:-//ChamberMaster//Event Calendar 2.0//EN
METHOD:PUBLISH
X-PUBLISHED-TTL:P3D
REFRESH-INTERVAL:P3D
CALSCALE:GREGORIAN
BEGIN:VEVENT
DTSTART:20210501T230000Z
DTEND:20210502T003000Z
X-MICROSOFT-CDO-ALLDAYEVENT:FALSE
SUMMARY:Bluegrass Ensemble Concert Pays Tribute to Bluegrass Legend Tony Rice
DESCRIPTION:The Department of Music presents a concert by the Bluegrass Ensemble\, under the direction of Adam Schlenker.\n\nThe concert will also be Livestreamed\, available to the public\, and can be viewed from anywhere. The Livestream can be seen on https://www.youtube.com/watch?v=7VPuunsd93k. Registration is not necessary to view the Livestream\, however if you would like to be sent a reminder notification to watch\, please go through the ticketing process and choose "Livestream Registration."\n\nIn the world of Bluegrass music and the acoustic guitar\, you'd be hard-pressed to find a more influential figure than Tony Rice (June 8\, 1951   December 25\, 2020). Whether we look at his early days expanding the Flatpicking Guitar framework established by Clarence White\, his time with J.D. Crowe building on the traditional bluegrass sounds\, or his work with David Grisman establishing progressive acoustic by blending bluegrass and old-time with swing and jazz\, it's very clear to see that Tony Rice should be considered one of the key architects of American Roots music.\n\nHis guitar style was uniquely his own but has been copied and studied by countless aspiring guitar players all around the world. He was known as an avid listener of music who was inspired by any genre that touched his soul. "We could spend a lifetime studying the contributions of Tony Rice so dedicating the spring semester to his music seemed more than appropriate\," said Adam Schlenker\, coordinator of Bluegrass/American Roots Music.
X-ALT-DESC;FMTTYPE=text/html:<p>The Department of Music presents a concert by the Bluegrass Ensemble\, under the direction of Adam Schlenker.</p>\n\n<p>The concert will also be Livestreamed\, available to the public\, and can be viewed from anywhere. The Livestream can be seen on https://www.youtube.com/watch?v=7VPuunsd93k. Registration is not necessary to view the Livestream\, however if you would like to be sent a reminder notification to watch\, please go through the ticketing process and choose &ldquo\;Livestream Registration.&rdquo\;</p>\n\n<p>In the world of Bluegrass music and the acoustic guitar\, you&rsquo\;d be hard-pressed to find a more influential figure than Tony Rice (June 8\, 1951 &ndash\; December 25\, 2020). Whether we look at his early days expanding the Flatpicking Guitar framework established by Clarence White\, his time with J.D. Crowe building on the traditional bluegrass sounds\, or his work with David Grisman establishing progressive acoustic by blending bluegrass and old-time with swing and jazz\, it&rsquo\;s very clear to see that Tony Rice should be considered one of the key architects of American Roots music.</p>\n\n<p>His guitar style was uniquely his own but has been copied and studied by countless aspiring guitar players all around the world. He was known as an avid listener of music who was inspired by any genre that touched his soul. &ldquo\;We could spend a lifetime studying the contributions of Tony Rice so dedicating the spring semester to his music seemed more than appropriate\,&rdquo\; said Adam Schlenker\, coordinator of Bluegrass/American Roots Music.</p>\n
LOCATION:Virtual
UID:e.180.14776
SEQUENCE:3
DTSTAMP:20260421T191539Z
URL:https://business.granvilleoh.com/events/details/bluegrass-ensemble-concert-pays-tribute-to-bluegrass-legend-tony-rice-14776
END:VEVENT

END:VCALENDAR
