BEGIN:VCALENDAR
VERSION:2.0
PRODID:-//ChamberMaster//Event Calendar 2.0//EN
METHOD:PUBLISH
X-PUBLISHED-TTL:P3D
REFRESH-INTERVAL:P3D
CALSCALE:GREGORIAN
BEGIN:VEVENT
DTSTART:20200208T000000Z
DTEND:20200208T010000Z
X-MICROSOFT-CDO-ALLDAYEVENT:FALSE
SUMMARY:Bluegrass Festival “Generations in Bluegrass”
DESCRIPTION:The Department of Music presents "Generations in Bluegrass" featuring Denison alumni Hayes Griffin\, Kensie Maynard\, and Aidan VanSuetendael\, with special guests Tom Ewing\, author and former singer/guitarist for Bill Monroe's Bluegrass Boys\, and Rich Baker\, mandolin player and host of WOSU Bluegrass Ramble\, along with current Denison University bluegrass students. Directed by Adam Schlenker.
X-ALT-DESC;FMTTYPE=text/html:<span style="background-color:transparent\; color:rgb(0\, 0\, 0)\; font-family:arial\; font-size:11pt">The Department of Music presents &ldquo\;Generations in Bluegrass&rdquo\; featuring Denison alumni Hayes Griffin\, Kensie Maynard\, and Aidan VanSuetendael\, with special guests Tom Ewing\, author and former singer/guitarist for Bill Monroe&rsquo\;s Bluegrass Boys\, and Rich Baker\, mandolin player and host of WOSU Bluegrass Ramble\, along with current Denison University bluegrass students. Directed by Adam Schlenker.</span>
LOCATION:Denison University Swasey Chapel 200 Chapel Drive
UID:e.180.14251
SEQUENCE:3
DTSTAMP:20260422T160608Z
URL:https://business.granvilleoh.com/events/details/bluegrass-festival-generations-in-bluegrass-14251
END:VEVENT

END:VCALENDAR
