BEGIN:VCALENDAR
VERSION:2.0
PRODID:-//ChamberMaster//Event Calendar 2.0//EN
METHOD:PUBLISH
X-PUBLISHED-TTL:P3D
REFRESH-INTERVAL:P3D
CALSCALE:GREGORIAN
BEGIN:VEVENT
DTSTART:20200209T000000Z
DTEND:20200209T010000Z
X-MICROSOFT-CDO-ALLDAYEVENT:FALSE
SUMMARY:Bluegrass Festival with Sister Sadie
DESCRIPTION:The Department of Music presents the Bluegrass Festival with Sister Sadie in concert.
X-ALT-DESC;FMTTYPE=text/html:<span style="color:rgb(0\, 0\, 0)\; font-family:arial\; font-size:11pt">The Department of Music presents the Bluegrass Festival with Sister Sadie in concert.</span>
LOCATION:Denison University Swasey Chapel 200 Chapel Drive
UID:e.180.14253
SEQUENCE:3
DTSTAMP:20260422T171352Z
URL:https://business.granvilleoh.com/events/details/bluegrass-festival-with-sister-sadie-14253
END:VEVENT

END:VCALENDAR
