BEGIN:VCALENDAR
VERSION:2.0
PRODID:-//ChamberMaster//Event Calendar 2.0//EN
METHOD:PUBLISH
X-PUBLISHED-TTL:P3D
REFRESH-INTERVAL:P3D
CALSCALE:GREGORIAN
BEGIN:VEVENT
DTSTART:20200208T150000Z
DTEND:20200208T190000Z
X-MICROSOFT-CDO-ALLDAYEVENT:FALSE
SUMMARY:Bluegrass Festival workshops
DESCRIPTION:The Department of Music presents the Bluegrass Festival workshop. \n\n	\n	Workshops available for the following: \n\n	\n		\n		10 a.m.: Q&A session with Tom Ewing on his time with Bill Monroe\n		\n		\n		11 a.m.: Banjo Workshop with Gena Britt\n		\n		\n		12 p.m.: Fiddle Workshop with Deanie Richardson\n		\n		\n		1 p.m.: Vocal/Songwriting workshop with Dale Ann Bradley and Tina Adair \n		\n	\n	\n\n\nBring your instruments! There will be jamming in the halls of the Eisner Center all day!
X-ALT-DESC;FMTTYPE=text/html:<span style="color:rgb(0\, 0\, 0)\; font-family:arial\; font-size:11pt">The Department of Music presents the Bluegrass Festival workshop.&nbsp\;</span>\n<ul>\n	<li>\n	<p><span style="font-size:11pt">Workshops available for the following:&nbsp\;</span></p>\n\n	<ul>\n		<li>\n		<p><span style="font-size:11pt">10 a.m.: Q&amp\;A session with Tom Ewing on his time with Bill Monroe</span></p>\n		</li>\n		<li>\n		<p><span style="font-size:11pt">11 a.m.: Banjo Workshop with Gena Britt</span></p>\n		</li>\n		<li>\n		<p><span style="font-size:11pt">12 p.m.: Fiddle Workshop with Deanie Richardson</span></p>\n		</li>\n		<li>\n		<p><span style="font-size:11pt">1 p.m.: Vocal/Songwriting workshop with Dale Ann Bradley and Tina Adair&nbsp\;</span></p>\n		</li>\n	</ul>\n	</li>\n</ul>\n\n<p style="margin-left:36pt"><span style="color:rgb(0\, 0\, 0)\; font-family:arial\; font-size:11pt">Bring your instruments! There will be jamming in the halls of the Eisner Center all day!</span></p>\n\n<div>&nbsp\;</div>\n
LOCATION:Denison University Burke Recital Hall of the Michael D. Eisner Center for the Performing Arts 240 West Broadway
UID:e.180.14252
SEQUENCE:3
DTSTAMP:20260422T154122Z
URL:https://business.granvilleoh.com/events/details/bluegrass-festival-workshops-14252
END:VEVENT

END:VCALENDAR
