BEGIN:VCALENDAR
VERSION:2.0
PRODID:-//ChamberMaster//Event Calendar 2.0//EN
METHOD:PUBLISH
X-PUBLISHED-TTL:P3D
REFRESH-INTERVAL:P3D
CALSCALE:GREGORIAN
BEGIN:VEVENT
DTSTART:20210807T210000Z
DTEND:20210807T220000Z
X-MICROSOFT-CDO-ALLDAYEVENT:FALSE
SUMMARY:Book Bike on Broadway
DESCRIPTION:Bring your library card to check out materials displayed on our book bike debuting during Art on Broadway. Artwork from this month's Drawing Club program will be showcased Everybody Between Reader's Garden Patio and ART@43023
X-ALT-DESC;FMTTYPE=text/html:Bring your library card to check out materials displayed on our book bike debuting during Art on Broadway. Artwork from this month&rsquo\;s Drawing Club program will be showcased Everybody Between Reader&#39\;s Garden Patio and ART@43023
LOCATION:Granville Public Library
UID:e.180.16038
SEQUENCE:3
DTSTAMP:20260421T163142Z
URL:https://business.granvilleoh.com/events/details/book-bike-on-broadway-16038
END:VEVENT

END:VCALENDAR
