BEGIN:VCALENDAR
VERSION:2.0
PRODID:-//ChamberMaster//Event Calendar 2.0//EN
METHOD:PUBLISH
X-PUBLISHED-TTL:P3D
REFRESH-INTERVAL:P3D
CALSCALE:GREGORIAN
BEGIN:VEVENT
DTSTART:20210925T140000Z
DTEND:20210925T210000Z
X-MICROSOFT-CDO-ALLDAYEVENT:FALSE
SUMMARY:Book Sale a la Cart
DESCRIPTION:Visit our book sale in the community room. All items are $1 and proceeds benefit the Friends of the Granville Public Library. During the last hour of the sale\, you can fill a bag for $5!
X-ALT-DESC;FMTTYPE=text/html:Visit our book sale in the community room. All items are $1 and proceeds benefit the Friends of the Granville Public Library. During the last hour of the sale\, you can fill a bag for $5!
LOCATION:Granville Public Library
UID:e.180.16061
SEQUENCE:3
DTSTAMP:20260421T140638Z
URL:https://business.granvilleoh.com/events/details/book-sale-a-la-cart-09-25-2021-16061
END:VEVENT

END:VCALENDAR
