BEGIN:VCALENDAR
VERSION:2.0
PRODID:-//ChamberMaster//Event Calendar 2.0//EN
METHOD:PUBLISH
X-PUBLISHED-TTL:P3D
REFRESH-INTERVAL:P3D
CALSCALE:GREGORIAN
BEGIN:VEVENT
DTSTART:20210626T130000Z
DTEND:20210626T150000Z
X-MICROSOFT-CDO-ALLDAYEVENT:FALSE
SUMMARY:Book Sale a la Cart
DESCRIPTION:Stop by the library courtyard and browse our book sale books! $1.00 per item. Proceeds benefit the Friends of the Granville Public Library.
X-ALT-DESC;FMTTYPE=text/html:Stop by the library courtyard and browse our book sale books! $1.00 per item. Proceeds benefit the Friends of the Granville Public Library.
LOCATION:Granville Public Library
UID:e.180.14815
SEQUENCE:3
DTSTAMP:20260421T191512Z
URL:https://business.granvilleoh.com/events/details/book-sale-a-la-cart-14815
END:VEVENT

END:VCALENDAR
