BEGIN:VCALENDAR
VERSION:2.0
PRODID:-//ChamberMaster//Event Calendar 2.0//EN
METHOD:PUBLISH
X-PUBLISHED-TTL:P3D
REFRESH-INTERVAL:P3D
CALSCALE:GREGORIAN
BEGIN:VEVENT
DTSTART:20210612T000000Z
DTEND:20210612T010000Z
X-MICROSOFT-CDO-ALLDAYEVENT:FALSE
SUMMARY:Books for Bingo: Teen Edition
DESCRIPTION:Teens\, join us behind the Sinnett House to play bingo to win a new book! Registration is required to participate and space is limited. GranvilleLibrary.org/calendar/month If the weather is bad\, the program will be moved to the library community room. For rising grades 7-12. The Sinnett House patio is located behind the Sinnett House. The Sinnett House is the first house behind the Post Office and across the street from Taco Dan's. The patio can be accessed from the paver walkway behind the library or the Sinnett House driveway.
X-ALT-DESC;FMTTYPE=text/html:Teens\, join us behind the Sinnett House to play bingo to win a new book! Registration is required to participate and space is limited. GranvilleLibrary.org/calendar/month If the weather is bad\, the program will be moved to the library community room. For rising grades 7-12. The Sinnett House patio is located behind the Sinnett House. The Sinnett House is the first house behind the Post Office and across the street from Taco Dan&#39\;s. The patio can be accessed from the paver walkway behind the library or the Sinnett House driveway.
LOCATION:Granville Public Library Sinnett House Patio
UID:e.180.14801
SEQUENCE:3
DTSTAMP:20260421T180537Z
URL:https://business.granvilleoh.com/events/details/books-for-bingo-teen-edition-14801
END:VEVENT

END:VCALENDAR
