BEGIN:VCALENDAR
VERSION:2.0
PRODID:-//ChamberMaster//Event Calendar 2.0//EN
METHOD:PUBLISH
X-PUBLISHED-TTL:P3D
REFRESH-INTERVAL:P3D
CALSCALE:GREGORIAN
BEGIN:VEVENT
DTSTART:20210609T230000Z
DTEND:20210610T000000Z
X-MICROSOFT-CDO-ALLDAYEVENT:FALSE
SUMMARY:Books & the Bees: Gifts of the Crow
DESCRIPTION:Join the Licking Park District and GPL to discuss "Gifts of the Crow" by John Marzluff. Discover the startingly intelligent and social nature of these feathered friends. We will meet at Shelter House #4 at Infirmary Mound Park weather permitting. Register at GranvilleLibrary.org/calendar/month Pick up a copy of this title at our main desk. It is also available on Hoopla.
X-ALT-DESC;FMTTYPE=text/html:Join the Licking Park District and GPL to discuss &quot\;Gifts of the Crow&quot\; by John Marzluff. Discover the startingly intelligent and social nature of these feathered friends. We will meet at Shelter House #4 at Infirmary Mound Park weather permitting. Register at GranvilleLibrary.org/calendar/month Pick up a copy of this title at our main desk. It is also available on Hoopla.
LOCATION:Infirmary Mound Park Shelter #4
UID:e.180.14797
SEQUENCE:3
DTSTAMP:20260421T180721Z
URL:https://business.granvilleoh.com/events/details/books-the-bees-gifts-of-the-crow-14797
END:VEVENT

END:VCALENDAR
