BEGIN:VCALENDAR
VERSION:2.0
PRODID:-//ChamberMaster//Event Calendar 2.0//EN
METHOD:PUBLISH
X-PUBLISHED-TTL:P3D
REFRESH-INTERVAL:P3D
CALSCALE:GREGORIAN
BEGIN:VEVENT
DTSTART:20200307T030000Z
DTEND:20200308T030000Z
X-MICROSOFT-CDO-ALLDAYEVENT:FALSE
SUMMARY:Burpee’s Seedy 24 Hour Improv Show Fundraiser
DESCRIPTION:Denison University's resident improv comedy troupe\, Burpee's Seedy Theatrical Company\, performs its annual 24-Hour Improv Fundraiser for a relevant cause from 10 p.m.\, Friday\, March 6 to 10 p.m.\, Saturday\, March 7.\nThis year\, the organization that Burpees will be donating to is the WIRES- Wildlife Information\, Rescue\, and Education Services. Our raised gifts will specifically be going to the Australian Wildlife Rescue Organization branch of WIRES.
X-ALT-DESC;FMTTYPE=text/html:<span style="background-color:transparent\; color:rgb(0\, 0\, 0)\; font-family:arial\; font-size:11pt">Denison University&rsquo\;s resident </span><span style="background-color:transparent\; color:rgb(34\, 34\, 34)\; font-family:arial\; font-size:11pt">improv comedy troupe\, </span><span style="background-color:transparent\; color:rgb(0\, 0\, 0)\; font-family:arial\; font-size:11pt">Burpee&rsquo\;s Seedy Theatrical Company\, performs its annual 24-Hour Improv Fundraiser for a relevant cause from 10 p.m.\, Friday\, March 6 to 10 p.m.\, Saturday\, March 7.</span>\n<p><span style="color:rgb(0\, 0\, 0)\; font-family:arial\; font-size:11pt">This year\, the organization that Burpees will be donating to is the WIRES- Wildlife Information\, Rescue\, and Education Services. Our raised gifts will specifically be going to the Australian Wildlife Rescue Organization branch of WIRES.</span></p>\n\n<div>&nbsp\;</div>\n
LOCATION:Denison University Herrick Hall 600 West Loop
UID:e.180.14287
SEQUENCE:3
DTSTAMP:20260422T142606Z
URL:https://business.granvilleoh.com/events/details/burpee-s-seedy-24-hour-improv-show-fundraiser-14287
END:VEVENT

END:VCALENDAR
