BEGIN:VCALENDAR
VERSION:2.0
PRODID:-//ChamberMaster//Event Calendar 2.0//EN
METHOD:PUBLISH
X-PUBLISHED-TTL:P3D
REFRESH-INTERVAL:P3D
CALSCALE:GREGORIAN
BEGIN:VEVENT
DTSTART:20220223T220000Z
DTEND:20220224T000000Z
X-MICROSOFT-CDO-ALLDAYEVENT:FALSE
SUMMARY:Business After Hours
DESCRIPTION:Come and see what Hashi is all about. Join us for an informal Business After Hours networking at our newest member location. Our hosts will provide appetizers. Cash bar.
X-ALT-DESC;FMTTYPE=text/html:Come and see what Hashi is all about. Join us for an informal Business After Hours networking at our newest member location. Our hosts will provide appetizers. Cash bar.&nbsp\;&nbsp\;&nbsp\;&nbsp\;&nbsp\;&nbsp\;&nbsp\;&nbsp\;&nbsp\;&nbsp\;&nbsp\;&nbsp\;
LOCATION:Hashi UP 128 E. Broadway Granville\, Ohio 43023
UID:e.180.16347
SEQUENCE:3
DTSTAMP:20260419T080920Z
URL:https://business.granvilleoh.com/events/details/business-after-hours-16347
END:VEVENT

END:VCALENDAR
